BEGIN:VCALENDAR
VERSION:2.0
PRODID:-//ChamberMaster//Event Calendar 2.0//EN
METHOD:PUBLISH
X-PUBLISHED-TTL:P3D
REFRESH-INTERVAL:P3D
CALSCALE:GREGORIAN
BEGIN:VEVENT
DTSTART:20190828T230000Z
DTEND:20190829T003000Z
X-MICROSOFT-CDO-ALLDAYEVENT:FALSE
SUMMARY:Resumes with Erica Reckamp
DESCRIPTION:Erica will lead us through current strategies and trends based on reemployment research\, including Applicant Tracking Systems (ATS)\, creating keyword-optimized content\, and avoiding red flags that eliminate you from the candidate pool. Free critiques of job search documents via email will be offered to attendees. Registration is required.
X-ALT-DESC;FMTTYPE=text/html:Erica will lead us through current strategies and trends based on reemployment research\, including Applicant Tracking Systems (ATS)\, creating keyword-optimized content\, and avoiding red flags that eliminate you from the candidate pool. Free critiques of job search documents via email will be offered to attendees. Registration is required.
LOCATION:Fox River Grove Memorial Library 407 Lincoln Ave. Fox River Grove\, IL 60021
UID:e.138.9699
SEQUENCE:3
DTSTAMP:20260419T150223Z
URL:https://business.carygrovechamber.com/events/details/resumes-with-erica-reckamp-9699
END:VEVENT

END:VCALENDAR
