BEGIN:VCALENDAR
VERSION:2.0
PRODID:-//ChamberMaster//Event Calendar 2.0//EN
METHOD:PUBLISH
X-PUBLISHED-TTL:P3D
REFRESH-INTERVAL:P3D
CALSCALE:GREGORIAN
BEGIN:VEVENT
DTSTART;VALUE=DATE:20100107
DTEND;VALUE=DATE:20100108
TRANSP:TRANSPARENT
X-MICROSOFT-CDO-ALLDAYEVENT:TRUE
SUMMARY:Retirement Seminar by Edward Jones - Rich Sansone
DESCRIPTION:Rich Sansone of Edward Jones Investments is having a seminar for small business owners\, "Retirement  Plans for Small Businesses" on Thursday\, January 7 at Clubhouse of Cary at Cary Country Club\, 2400 Grove Lane at 11:45 a.m. to 1 p.m. for lunch. Join Rich to discuss your retirement plan options\, from Single Ks to SEP IRAs and how each one may effect you and your employees. To reserve your spot for this free seminar\, call (847) 516-1433 or e-mail to richard.sansone@edwardjones.com.
X-ALT-DESC;FMTTYPE=text/html:<div><div style="line-height: 14.4pt\; margin: 0in 0in 0pt"><strong><span style="color: black\; font-size: 11pt">Rich Sansone of Edward </span></strong><strong><span style="color: black\; font-size: 11pt">Jones</span></strong><strong><span style="color: black\; font-size: 11pt"> Investments</span></strong><strong><span style="color: black\; font-size: 11pt\; font-weight: normal"> is having a seminar for small business owners\, &ldquo\;Retirement &nbsp\;Plans for Small Businesses&rdquo\; on Thursday\, January 7 at </span></strong><strong><span style="color: black\; font-size: 11pt">Clubhouse of Cary at Cary Country Club\, </span></strong><strong><span style="color: black\; font-size: 11pt\; font-weight: normal">2400 Grove Lane </span></strong><strong><span style="color: black\; font-size: 11pt\; font-weight: normal">at </span></strong><strong><span style="color: black\; font-size: 11pt\; font-weight: normal">11:45 a.m. to 1 p.m.</span></strong><strong><span style="color: black\; font-size: 11pt\; font-weight: normal"> for lunch.&nbsp\;Join Rich to discuss your retirement plan options\, from Single Ks to SEP IRAs and how each one may effect you and your employees.&nbsp\;To reserve your spot for this free seminar\, call (847) 516-1433 or e-mail to </span></strong><strong><span style="color: black\; font-size: 11pt\; font-weight: normal">richard.sansone@edwardjones.com</span></strong><strong><span style="color: black\; font-size: 11pt\; font-weight: normal">.&nbsp\;</span></strong></div><div style="line-height: 14.4pt\; margin: 0in 0in 0pt"><strong>&nbsp\;</strong></div></div>
LOCATION:The Clubhouse of Cary at Cary Country Club2400 Grove LaneCary\, IL
UID:e.138.694
SEQUENCE:3
DTSTAMP:20260424T112917Z
URL:https://business.carygrovechamber.com/events/details/retirement-seminar-by-edward-jones-rich-sansone-01-07-2010-694
END:VEVENT

END:VCALENDAR
