BEGIN:VCALENDAR
VERSION:2.0
PRODID:-//ChamberMaster//Event Calendar 2.0//EN
METHOD:PUBLISH
X-PUBLISHED-TTL:P3D
REFRESH-INTERVAL:P3D
CALSCALE:GREGORIAN
BEGIN:VEVENT
DTSTART;VALUE=DATE:20090923
DTEND;VALUE=DATE:20090924
TRANSP:TRANSPARENT
X-MICROSOFT-CDO-ALLDAYEVENT:TRUE
SUMMARY:Retirement Strategies for Women by Allstate at Onion Pub
DESCRIPTION:For Ladies Only!Becky Wesolowicz of Allstate Insurance presents a seminar\, "Retirement Strategies for Women" on Wednesday\, September 23 at The Onion Pub & Brewery\, located at 22221 N. Pepper Road in Lake Barrington from 6:30 to 8:30 p.m.  Enjoy a complimentary dinner and learn about retirement and financial services for women! Please RSVP to Becky at (847) 516-1500.  Becky Wesolowicz's Allstate office is located in Cary at 395 Cary Algonquin Road\, Ste. F.
X-ALT-DESC;FMTTYPE=text/html:<div><strong>For Ladies Only!</strong></div><div><strong>Becky Wesolowicz of Allstate Insurance </strong>presents a seminar\, &quot\;Retirement Strategies for Women&quot\; on Wednesday\, September 23 at <strong>The Onion Pub &amp\; Brewery</strong>\, located at 22221 N. Pepper Road in Lake Barrington from 6:30 to 8:30 p.m.&nbsp\; Enjoy a complimentary dinner and learn about retirement and financial services for women!</div><div>&nbsp\;</div><div>Please RSVP to Becky at (847) 516-1500.&nbsp\;</div><div>&nbsp\;</div><div>Becky Wesolowicz&rsquo\;s Allstate office is located in Cary at 395 Cary Algonquin Road\, Ste. F.</div>
LOCATION:The Onion Pub & Brewery 22221 N. Pepper Road in Lake Barrington
UID:e.138.582
SEQUENCE:3
DTSTAMP:20260424T163823Z
URL:https://business.carygrovechamber.com/events/details/retirement-strategies-for-women-by-allstate-at-onion-pub-09-23-2009-582
END:VEVENT

END:VCALENDAR
