BEGIN:VCALENDAR
VERSION:2.0
PRODID:-//ChamberMaster//Event Calendar 2.0//EN
METHOD:PUBLISH
X-PUBLISHED-TTL:P3D
REFRESH-INTERVAL:P3D
CALSCALE:GREGORIAN
BEGIN:VEVENT
DTSTART;VALUE=DATE:20090702
DTEND;VALUE=DATE:20090703
TRANSP:TRANSPARENT
X-MICROSOFT-CDO-ALLDAYEVENT:TRUE
SUMMARY:Ribbon Cutting at Lulu's Wiggin Out Crystal Lake
DESCRIPTION:Join us for a ribbon cutting ceremony on Thursday\, July 2 at 11 a.m. at the new Lulu's Wiggin Out in Crystal Lake\, located at 63 North Williams Street in downtown Crystal Lake. The new store features fun fashion for women\, from casual and cruise wear to formal wear. Owner Luann Bauer has gathered an eclectic collection of fashions you won't find anywhere else. She has colorful luggage and handbags\, designer jewelry\, gifts and accessories for women and the home. Everything you need to get decked out! Stop in her new store! To reach Lulu's\, call (815) 356-9900 or visit www.luluswigginout.com.
X-ALT-DESC;FMTTYPE=text/html:<div>Join us for a ribbon cutting ceremony on Thursday\, July 2 at 11 a.m. at the new Lulu's Wiggin Out in Crystal Lake\, located at 63 North Williams Street in downtown Crystal Lake. The new store features fun fashion for women\, from casual and cruise wear to formal wear. Owner Luann Bauer has gathered an eclectic collection of fashions you won't find anywhere else. She has colorful luggage and handbags\, designer jewelry\, gifts and accessories for women and the home. Everything you need to get decked out! Stop in her new store! To reach Lulu's\, call (815) 356-9900 or visit www.luluswigginout.com.</div>
LOCATION:Lulu's Wiggin Out in Crystal Lake63 North Williams Street in downtown Crystal Lake
UID:e.138.502
SEQUENCE:3
DTSTAMP:20260424T192727Z
URL:https://business.carygrovechamber.com/events/details/ribbon-cutting-at-lulu-s-wiggin-out-crystal-lake-07-02-2009-502
END:VEVENT

END:VCALENDAR
