BEGIN:VCALENDAR
VERSION:2.0
PRODID:-//ChamberMaster//Event Calendar 2.0//EN
METHOD:PUBLISH
X-PUBLISHED-TTL:P3D
REFRESH-INTERVAL:P3D
CALSCALE:GREGORIAN
BEGIN:VEVENT
DTSTART;VALUE=DATE:20091007
DTEND;VALUE=DATE:20091008
TRANSP:TRANSPARENT
X-MICROSOFT-CDO-ALLDAYEVENT:TRUE
SUMMARY:Rich Sansone of Edward Jones Host Retirement Seminar
DESCRIPTION:Rich Sansone of Edward Jones Investments is offering a seminar and retirement workshop for Business Owners on Wednesday\, October 7 at Clubhouse of Cary at Cary Country Club at 12 noon for lunch or 6 p.m. for dinner. Please call (847) 516-0433 to reserve your spot for you and a guest no later than October 5. Rich Sansone's office is located at 17 Jandus Rd. in Cary.
X-ALT-DESC;FMTTYPE=text/html:<div>Rich Sansone of Edward Jones Investments is offering a seminar and retirement workshop for Business Owners on Wednesday\, October 7 at Clubhouse of Cary at Cary Country Club at 12 noon for lunch or 6 p.m. for dinner. Please call (847) 516-0433 to reserve your spot for you and a guest no later than October 5. Rich Sansone&rsquo\;s office is located at 17 Jandus Rd. in Cary.</div>
LOCATION:Clubhouse of Cary at Cary Country Club2400 Grove LaneCary\, IL
UID:e.138.585
SEQUENCE:3
DTSTAMP:20260424T154520Z
URL:https://business.carygrovechamber.com/events/details/rich-sansone-of-edward-jones-host-retirement-seminar-10-07-2009-585
END:VEVENT

END:VCALENDAR
