BEGIN:VCALENDAR
VERSION:2.0
PRODID:-//ChamberMaster//Event Calendar 2.0//EN
METHOD:PUBLISH
X-PUBLISHED-TTL:P3D
REFRESH-INTERVAL:P3D
CALSCALE:GREGORIAN
BEGIN:VEVENT
DTSTART;VALUE=DATE:20080216
DTEND;VALUE=DATE:20080217
TRANSP:TRANSPARENT
X-MICROSOFT-CDO-ALLDAYEVENT:TRUE
SUMMARY:Rik Emmett
DESCRIPTION:Rik Emmett was the guitarist and singer for the Canadian progressive rock act Triumph in the late 70s and throughout the 80s. By the mid-80s\, Triumph had three gold and platinum albums\, established themselves as a premier touring act in North America and enjoyed generous FM airplay. Rik?s solo career now features ventures into jazz\, swing\, and fusion\, but holds true to his rock and roll roots. Rik?s return to Crystal Lake comes on the heels of his induction into the Canadian Music Industry Hall of Fame with his former band mates from Triumph.\n\nThe trio is rounded out by guitarist Dave Dunlop and bassist Steve Skingley. This is a rare opportunity to catch these three incredible performers in Crystal Lake at an unbeatable price.
X-ALT-DESC;FMTTYPE=text/html:Rik Emmett was the guitarist and singer for the Canadian progressive rock act Triumph in the late 70s and throughout the 80s. By the mid-80s\, Triumph had three gold and platinum albums\, established themselves as a premier touring act in North America and enjoyed generous FM airplay. Rik?s solo career now features ventures into jazz\, swing\, and fusion\, but holds true to his rock and roll roots. Rik?s return to Crystal Lake comes on the heels of his induction into the Canadian Music Industry Hall of Fame with his former band mates from Triumph.\n\nThe trio is rounded out by guitarist Dave Dunlop and bassist Steve Skingley. This is a rare opportunity to catch these three incredible performers in Crystal Lake at an unbeatable price.
LOCATION:Raue Center For The Arts 26 N. Williams Street Crystal Lake\, IL 60014
UID:e.138.161
SEQUENCE:3
DTSTAMP:20260425T193630Z
URL:https://business.carygrovechamber.com/events/details/rik-emmett-02-16-2008-161
END:VEVENT

END:VCALENDAR
