BEGIN:VCALENDAR
VERSION:2.0
PRODID:-//ChamberMaster//Event Calendar 2.0//EN
METHOD:PUBLISH
X-PUBLISHED-TTL:P3D
REFRESH-INTERVAL:P3D
CALSCALE:GREGORIAN
BEGIN:VEVENT
DTSTART:20100120T003000Z
DTEND:20100120T020000Z
X-MICROSOFT-CDO-ALLDAYEVENT:FALSE
SUMMARY:Robotic Advances in Prostate Surgery
DESCRIPTION:According to the Prostate Cancer Foundation prostate cancer affects 1 in 6 men. David Goldrath M.D.\, board certified urologist with Comprehensive Urologic Care will introduce you to the da Vinci System. This new technology enables the most complex and delicate procedures through very small incisions. The potential benefits of the da Vinci Prostatectomy are: Effective cancer control\, improved and early return of sexual function\, improved and early return of continence\, better results over traditional treatments. Join us for a light meal and learn how prostate treatments have dramatically changed and improved over the years.
X-ALT-DESC;FMTTYPE=text/html:<div>According to the Prostate Cancer Foundation prostate cancer affects 1 in 6 men. David Goldrath M.D.\, board certified urologist with Comprehensive Urologic Care will introduce you to the da Vinci System. This new technology enables the most complex and delicate procedures through very small incisions. The potential benefits of the da Vinci Prostatectomy are: Effective cancer control\, improved and early return of sexual function\, improved and early return of continence\, better results over traditional treatments. Join us for a light meal and learn how prostate treatments have dramatically changed and improved over the years.</div>
LOCATION:Advocate Good Shepherd Hospital 450 W. Highway 22 Barrington\, IL 60010
UID:e.138.608
SEQUENCE:3
DTSTAMP:20260424T112852Z
URL:https://business.carygrovechamber.com/events/details/robotic-advances-in-prostate-surgery-01-19-2010-608
END:VEVENT

END:VCALENDAR
