BEGIN:VCALENDAR
VERSION:2.0
PRODID:-//ChamberMaster//Event Calendar 2.0//EN
METHOD:PUBLISH
X-PUBLISHED-TTL:P3D
REFRESH-INTERVAL:P3D
CALSCALE:GREGORIAN
BEGIN:VEVENT
DTSTART;VALUE=DATE:20080712
DTEND;VALUE=DATE:20080713
TRANSP:TRANSPARENT
X-MICROSOFT-CDO-ALLDAYEVENT:TRUE
SUMMARY:Rock for Autism Fundraiser
DESCRIPTION:Come out to Joe's Bar on Weed Street in Chicago and listen to Draw The Line\, an Aerosmith tribute band. All proceeds to benefit the Alexander Leigh Center for Autism. Advance tickets are $22.50 by visiting www.ticketleap.com.    Doors open at 6:00 p.m.
X-ALT-DESC;FMTTYPE=text/html:<div><span style="font-size: 11pt\; color: black">Come out to Joe&rsquo\;s Bar on </span><span style="font-size: 11pt\; color: black">Weed Street</span><span style="font-size: 11pt\; color: black"> in </span><span style="font-size: 11pt\; color: black">Chicago</span><span style="font-size: 11pt\; color: black"> and listen to <em>Draw The Line\,</em> an Aerosmith tribute band.&nbsp\;All proceeds to benefit the </span><strong><span style="font-size: 11pt\; color: black">Alexander </span></strong><strong><span style="font-size: 11pt\; color: black">Leigh </span></strong><strong><span style="font-size: 11pt\; color: black">Center</span></strong><strong><span style="font-size: 11pt\; color: black"> for Autism.</span></strong><span style="font-size: 11pt\; color: black">&nbsp\;Advance tickets are $22.50 by visiting <a href="http://www.ticketleap.com/"><span style="color: black">www.ticketleap.com</span></a>.&nbsp\;&nbsp\;&nbsp\; Doors open at </span><span style="font-size: 11pt\; color: black">6:00 p.m.</span><span style="font-size: 11pt\; color: black">&nbsp\;</span></div>
LOCATION:Joe's Bar940 Weed Street\, Chicago
UID:e.138.279
SEQUENCE:3
DTSTAMP:20260425T121742Z
URL:https://business.carygrovechamber.com/events/details/rock-for-autism-fundraiser-07-12-2008-279
END:VEVENT

END:VCALENDAR
