BEGIN:VCALENDAR
VERSION:2.0
PRODID:-//ChamberMaster//Event Calendar 2.0//EN
METHOD:PUBLISH
X-PUBLISHED-TTL:P3D
REFRESH-INTERVAL:P3D
CALSCALE:GREGORIAN
BEGIN:VEVENT
DTSTART;VALUE=DATE:20080506
DTEND;VALUE=DATE:20080507
TRANSP:TRANSPARENT
X-MICROSOFT-CDO-ALLDAYEVENT:TRUE
SUMMARY:Romeo & Juliet
DESCRIPTION:Worlds collide as this Shakespeare classic is set in a futuristic Verona. The New York Times says\, ?A well-acted\, throbbingly high-energy production.? Shakespeare?s play resonates powerfully\, even centuries after it was originally written\, strikingly addressing contemporary issues.
X-ALT-DESC;FMTTYPE=text/html:Worlds collide as this Shakespeare classic is set in a futuristic Verona. The New York Times says\, ?A well-acted\, throbbingly high-energy production.? Shakespeare?s play resonates powerfully\, even centuries after it was originally written\, strikingly addressing contemporary issues.
LOCATION:Raue Center For The Arts 26 N. Williams Street Crystal Lake\, IL 60014
UID:e.138.177
SEQUENCE:3
DTSTAMP:20260425T152436Z
URL:https://business.carygrovechamber.com/events/details/romeo-juliet-05-06-2008-177
END:VEVENT

END:VCALENDAR
