BEGIN:VCALENDAR
VERSION:2.0
PRODID:-//ChamberMaster//Event Calendar 2.0//EN
METHOD:PUBLISH
X-PUBLISHED-TTL:P3D
REFRESH-INTERVAL:P3D
CALSCALE:GREGORIAN
BEGIN:VEVENT
DTSTART;VALUE=DATE:20080914
DTEND;VALUE=DATE:20080915
TRANSP:TRANSPARENT
X-MICROSOFT-CDO-ALLDAYEVENT:TRUE
SUMMARY:Rotary Club of Cary Grove Wine and Cheese Tasting Fundraiser
DESCRIPTION:Rotary Club of Cary Grove is having a gourmet wine and cheese tasting fundraiser for their Charitable Fund\, which gives back to the community on Sunday\, September 14 from 6:00 to 8:00 p.m. at Orchard Prime Meats and Wine Shoppe\, located at 133 W. Main Street in Cary.  Cost is $31.50 per person.  Wine and cheese will also be available for purchase during the event with 20 percent of all wine sales being donated back to the Rotary Club.  For more information\, call Sandi Waryck of SW Travel at (847) 462-0056 or visit www.carygroverotary.org
X-ALT-DESC;FMTTYPE=text/html:<div><span style="font-size: 11pt\; color: black\; font-family: Arial\; mso-bidi-font-size: 12.0pt\; mso-fareast-language: KO\; mso-fareast-font-family: Batang\; mso-ansi-language: EN-US\; mso-bidi-language: AR-SA"><strong>Rotary Club of Cary Grove</strong> is having a<strong>&nbsp\;</strong>gourmet wine and cheese tasting fundraiser for their Charitable Fund\, which gives back to the community&nbsp\;on<span style="font-size: 11pt\; color: black\; font-family: Arial\; mso-bidi-font-size: 12.0pt\; mso-fareast-language: KO\; mso-fareast-font-family: Batang\; mso-ansi-language: EN-US\; mso-bidi-language: AR-SA"> Sunday\, September 14</span> from </span><st1:time minute="0" hour="18"><span style="font-size: 11pt\; color: black\; font-family: Arial\; mso-bidi-font-size: 12.0pt\; mso-fareast-language: KO\; mso-fareast-font-family: Batang\; mso-ansi-language: EN-US\; mso-bidi-language: AR-SA">6:00</span></st1:time><span style="font-size: 11pt\; color: black\; font-family: Arial\; mso-bidi-font-size: 12.0pt\; mso-fareast-language: KO\; mso-fareast-font-family: Batang\; mso-ansi-language: EN-US\; mso-bidi-language: AR-SA"> to </span><st1:time minute="0" hour="20"><span style="font-size: 11pt\; color: black\; font-family: Arial\; mso-bidi-font-size: 12.0pt\; mso-fareast-language: KO\; mso-fareast-font-family: Batang\; mso-ansi-language: EN-US\; mso-bidi-language: AR-SA">8:00 p.m.</span></st1:time><span style="font-size: 11pt\; color: black\; font-family: Arial\; mso-bidi-font-size: 12.0pt\; mso-fareast-language: KO\; mso-fareast-font-family: Batang\; mso-ansi-language: EN-US\; mso-bidi-language: AR-SA"> at <strong style="mso-bidi-font-weight: normal">Orchard Prime Meats and Wine Shoppe</strong>\, located at </span><st1:street><st1:address><span style="font-size: 11pt\; color: black\; font-family: Arial\; mso-bidi-font-size: 12.0pt\; mso-fareast-language: KO\; mso-fareast-font-family: Batang\; mso-ansi-language: EN-US\; mso-bidi-language: AR-SA">133 W. Main Street</span></st1:address></st1:street><span style="font-size: 11pt\; color: black\; font-family: Arial\; mso-bidi-font-size: 12.0pt\; mso-fareast-language: KO\; mso-fareast-font-family: Batang\; mso-ansi-language: EN-US\; mso-bidi-language: AR-SA"> in </span><st1:city><st1:place><span style="font-size: 11pt\; color: black\; font-family: Arial\; mso-bidi-font-size: 12.0pt\; mso-fareast-language: KO\; mso-fareast-font-family: Batang\; mso-ansi-language: EN-US\; mso-bidi-language: AR-SA">Cary</span></st1:place></st1:city><span style="font-size: 11pt\; color: black\; font-family: Arial\; mso-bidi-font-size: 12.0pt\; mso-fareast-language: KO\; mso-fareast-font-family: Batang\; mso-ansi-language: EN-US\; mso-bidi-language: AR-SA">.<span style="mso-spacerun: yes">&nbsp\; </span>Cost is $31.50 per person.<span style="mso-spacerun: yes">&nbsp\; </span>Wine and cheese will also be available for purchase during the event with 20 percent of all wine sales being donated back to the Rotary Club.<span style="mso-spacerun: yes">&nbsp\; </span>For more information\, call <strong style="mso-bidi-font-weight: normal">Sandi Waryck</strong> of <strong style="mso-bidi-font-weight: normal">SW Travel</strong> at (847) 462-0056 or visit <a href="http://www.carygroverotary.org/"><span style="color: black">www.carygroverotary.org</span></a></span></div>
LOCATION:Orchard Prime Meats and Wine Shoppe133 W. Main Street - Cary\, IL
UID:e.138.314
SEQUENCE:3
DTSTAMP:20260425T105531Z
URL:https://business.carygrovechamber.com/events/details/rotary-club-of-cary-grove-wine-and-cheese-tasting-fundraiser-09-14-2008-314
END:VEVENT

END:VCALENDAR
