BEGIN:VCALENDAR
VERSION:2.0
PRODID:-//ChamberMaster//Event Calendar 2.0//EN
METHOD:PUBLISH
X-PUBLISHED-TTL:P3D
REFRESH-INTERVAL:P3D
CALSCALE:GREGORIAN
BEGIN:VEVENT
DTSTART;VALUE=DATE:20091003
DTEND;VALUE=DATE:20091004
TRANSP:TRANSPARENT
X-MICROSOFT-CDO-ALLDAYEVENT:TRUE
SUMMARY:Runner's Clinic
DESCRIPTION:Cary Physical Therapy\, in partnership with Cary Park District is offering a Runner's Clinic on Saturday\, October 3 from 10 to 12 noon.  This is geared to those who run on a regular basis or who want to start running.  Learn tips on footwear\, exercises to prevent injuries and improve running stride. Cost is $18.00.  Register through the Cary Park District at www.carypark.com or call (847) 639-6100.
X-ALT-DESC;FMTTYPE=text/html:<div><p class="MsoNormal" style="line-height: 14.4pt\; margin: 0in 0in 0pt"><b style="mso-bidi-font-weight: normal"><span style="font-family: Arial\; color: black\; font-size: 11pt\; mso-bidi-font-size: 10.0pt">Cary Physical Therapy</span></b><span style="font-family: Arial\; color: black\; font-size: 11pt\; mso-bidi-font-size: 10.0pt">\, in partnership with <b style="mso-bidi-font-weight: normal">Cary Park District</b> is offering a Runner's Clinic on Saturday\, October 3 from </span><st1:time hour="10" minute="0"><span style="font-family: Arial\; color: black\; font-size: 11pt\; mso-bidi-font-size: 10.0pt">10</span></st1:time><span style="font-family: Arial\; color: black\; font-size: 11pt\; mso-bidi-font-size: 10.0pt"> to </span><st1:time hour="12" minute="0"><span style="font-family: Arial\; color: black\; font-size: 11pt\; mso-bidi-font-size: 10.0pt">12 noon</span></st1:time><span style="font-family: Arial\; color: black\; font-size: 11pt\; mso-bidi-font-size: 10.0pt">.<span style="mso-spacerun: yes">&nbsp\; </span>This is geared to those who run on a regular basis or who want to start running.<span style="mso-spacerun: yes">&nbsp\; </span>Learn tips on footwear\, exercises to prevent injuries and improve running stride. Cost is $18.00.<span style="mso-spacerun: yes">&nbsp\; </span>Register through the Cary Park District at&nbsp\;<a href="http://www.carypark.com/">www.carypark.com</a> or call (847) 639-6100. </span><span style="font-family: Arial\; color: black\; font-size: 11pt\; mso-bidi-font-size: 12.0pt\; mso-bidi-font-family: 'Times New Roman'"><o:p></o:p></span></p><p class="MsoNormal" style="margin: 0in 0in 0pt"><o:p><font size="3" face="Times New Roman">&nbsp\;</font></o:p></p></div>
LOCATION:
UID:e.138.594
SEQUENCE:3
DTSTAMP:20260424T153341Z
URL:https://business.carygrovechamber.com/events/details/runner-s-clinic-10-03-2009-594
END:VEVENT

END:VCALENDAR
