BEGIN:VCALENDAR
VERSION:2.0
PRODID:-//ChamberMaster//Event Calendar 2.0//EN
METHOD:PUBLISH
X-PUBLISHED-TTL:P3D
REFRESH-INTERVAL:P3D
CALSCALE:GREGORIAN
BEGIN:VEVENT
DTSTART;VALUE=DATE:20090804
DTEND;VALUE=DATE:20090805
TRANSP:TRANSPARENT
X-MICROSOFT-CDO-ALLDAYEVENT:TRUE
SUMMARY:Safe Car Clinic for Seniors
DESCRIPTION:Faith in Action of McHenry County is sponsoring "Safe Car Clinics" for all local seniors and Faith in Action volunteers on Tuesday\, August 4 from 9   11 a.m. at B&B Auto\, 913 N. Front Street in McHenry and at Huntley Collision Center\, 11914 E. Main in Huntley. Faith in Action's board members will wash your car's windows while the professionals conduct a free 10 point safety inspection\, including tires\, fluid levels\, belts and brakes.  Refreshments will be provided.  No appointment is necessary.   Faith in Action provides volunteer services to help support independent living for residents of McHenry County 60 years and over who live in their homes or with loved ones.  Services are provided at no charge\, and include transportation\, shopping\, friendly visits\, respite for caretakers\, light housekeeping and light yard cleanup.   To inquire about services for yourself or a family member\, or volunteer for Faith in Action\, call (815) 455-3120 or visit www.fiamchenrycounty.org.
X-ALT-DESC;FMTTYPE=text/html:<div><p class="MsoNormal" style="line-height: 14.4pt\; margin: 0in 0in 0pt"><b style="mso-bidi-font-weight: normal"><span style="font-family: Arial\; color: black\; font-size: 11pt\; mso-bidi-font-size: 12.0pt">Faith in Action of McHenry County</span></b><span style="font-family: Arial\; color: black\; font-size: 11pt\; mso-bidi-font-size: 12.0pt"> is sponsoring &ldquo\;Safe Car Clinics&rdquo\; for all local seniors and Faith in Action volunteers on Tuesday\, August 4 from </span><st1:time minute="0" hour="9"><span style="font-family: Arial\; color: black\; font-size: 11pt\; mso-bidi-font-size: 12.0pt">9 &ndash\; 11 a.m.</span></st1:time><span style="font-family: Arial\; color: black\; font-size: 11pt\; mso-bidi-font-size: 12.0pt"> at B&amp\;B Auto\, </span><st1:street><st1:address><span style="font-family: Arial\; color: black\; font-size: 11pt\; mso-bidi-font-size: 12.0pt">913 N. Front Street</span></st1:address></st1:street><span style="font-family: Arial\; color: black\; font-size: 11pt\; mso-bidi-font-size: 12.0pt"> in McHenry and at </span><st1:place><st1:placename><span style="font-family: Arial\; color: black\; font-size: 11pt\; mso-bidi-font-size: 12.0pt">Huntley</span></st1:placename><span style="font-family: Arial\; color: black\; font-size: 11pt\; mso-bidi-font-size: 12.0pt"> </span><st1:placename><span style="font-family: Arial\; color: black\; font-size: 11pt\; mso-bidi-font-size: 12.0pt">Collision</span></st1:placename><span style="font-family: Arial\; color: black\; font-size: 11pt\; mso-bidi-font-size: 12.0pt"> </span><st1:placetype><span style="font-family: Arial\; color: black\; font-size: 11pt\; mso-bidi-font-size: 12.0pt">Center</span></st1:placetype></st1:place><span style="font-family: Arial\; color: black\; font-size: 11pt\; mso-bidi-font-size: 12.0pt">\, 11914 </span><st1:place><span style="font-family: Arial\; color: black\; font-size: 11pt\; mso-bidi-font-size: 12.0pt">E. Main</span></st1:place><span style="font-family: Arial\; color: black\; font-size: 11pt\; mso-bidi-font-size: 12.0pt"> in Huntley. Faith in Action&rsquo\;s board members will wash your car&rsquo\;s windows while the professionals conduct a free 10 point safety inspection\, including tires\, fluid levels\, belts and brakes.<span style="mso-spacerun: yes">&nbsp\; </span>Refreshments will be provided.<span style="mso-spacerun: yes">&nbsp\; </span>No appointment is necessary.<span style="mso-spacerun: yes">&nbsp\; </span><o:p></o:p></span></p><p class="MsoNormal" style="line-height: 14.4pt\; margin: 0in 0in 0pt"><span style="font-family: Arial\; color: black\; font-size: 11pt\; mso-bidi-font-size: 12.0pt"><o:p>&nbsp\;</o:p></span></p><p class="MsoNormal" style="line-height: 14.4pt\; margin: 0in 0in 0pt"><span style="font-family: Arial\; color: black\; font-size: 11pt\; mso-bidi-font-size: 12.0pt">Faith in Action provides volunteer services to help support independent living for residents of McHenry County 60 years and over who live in their homes or with loved ones.<span style="mso-spacerun: yes">&nbsp\; </span>Services are provided at no charge\, and include transportation\, shopping\, friendly visits\, respite for caretakers\, light housekeeping and light yard cleanup.<span style="mso-spacerun: yes">&nbsp\;&nbsp\; </span>To inquire about services for yourself or a family member\, or volunteer for Faith in Action\, call (815) 455-3120 or visit www.fiamchenrycounty.org.<o:p></o:p></span></p></div>
LOCATION:B&B Auto913 N. Front Street in McHenry Huntley Collision Center11914 E. Main in Huntley
UID:e.138.525
SEQUENCE:3
DTSTAMP:20260424T180255Z
URL:https://business.carygrovechamber.com/events/details/safe-car-clinic-for-seniors-08-04-2009-525
END:VEVENT

END:VCALENDAR
