BEGIN:VCALENDAR
VERSION:2.0
PRODID:-//ChamberMaster//Event Calendar 2.0//EN
METHOD:PUBLISH
X-PUBLISHED-TTL:P3D
REFRESH-INTERVAL:P3D
CALSCALE:GREGORIAN
BEGIN:VEVENT
DTSTART:20100202T010000Z
DTEND:20100316T010000Z
X-MICROSOFT-CDO-ALLDAYEVENT:FALSE
SUMMARY:Saints Peter & Paul Support Group
DESCRIPTION:Saints Peter & Paul Catholic Church will have its next session of Rainbows/Prism on Monday\, February 1 from 7 to 8 p.m. The program will continue for six more Mondays through March 15.  Rainbows is a peer support group for children K -8th grade who have suffered a loss from death\, divorce or separation. Prism is a peer support group for the parent of those children. It is designed for parent to take an honest look at the person they are today and the parent you are to your children. Call (847) 516-2636\, ext. 234 for more information or to register. Visit www.peterpaulchurchcary.org.
X-ALT-DESC;FMTTYPE=text/html:<div><p class="MsoNormal" style="line-height: 14.4pt\; margin: 0in 0in 0pt"><b style="mso-bidi-font-weight: normal"><span style="font-family: Arial\; color: black\; font-size: 11pt\; mso-fareast-font-family: &rsquo\;Times New Roman&rsquo\;\; mso-bidi-font-size: 12.0pt\; mso-bidi-font-family: &rsquo\;Times New Roman&rsquo\;"><b><span style="color: black\; font-size: 11pt">Saints Peter &amp\; Paul Catholic Church</span></b><span style="color: black\; font-size: 11pt"> will have its next session of Rainbows/Prism on Monday\, February 1 from </span><span style="color: black\; font-size: 11pt">7</span><span style="color: black\; font-size: 11pt"> to </span><span style="color: black\; font-size: 11pt">8 p.m. </span><strong><span style="color: black\; font-size: 11pt\; font-weight: normal">The program will continue for six more </span></strong><span style="color: black\; font-size: 11pt">Mondays through March 15. &nbsp\;Rainbows is a peer support group for children K -8<sup>th</sup> grade who have suffered a loss from death\, divorce or separation.&nbsp\;Prism is a peer support group for the parent of those children. </span><span style="font-size: 11pt">It is designed for parent to take an honest look at the person they are today and the parent you are to your children.&nbsp\;<span style="color: black">Call (847) 516-2636\, ext. 234 for more information or to register.&nbsp\;V</span></span><span style="color: black\; font-size: 11pt">isit<a target="event304" href="http://www.peterpaulchurchcary.org/"><span style="color: black"> www.peterpaulchurchcary.org</span></a>.&nbsp\;&nbsp\;</span></span></b></p></div>
LOCATION:Saints Peter & Paul Catholic Church410 N. First StreetCary\, IL
UID:e.138.565
SEQUENCE:3
DTSTAMP:20260424T101018Z
URL:https://business.carygrovechamber.com/events/details/saints-peter-paul-support-group-02-01-2010-565
END:VEVENT

END:VCALENDAR
