BEGIN:VCALENDAR
VERSION:2.0
PRODID:-//ChamberMaster//Event Calendar 2.0//EN
METHOD:PUBLISH
X-PUBLISHED-TTL:P3D
REFRESH-INTERVAL:P3D
CALSCALE:GREGORIAN
BEGIN:VEVENT
DTSTART:20070410T220000Z
DTEND:20070411T000000Z
X-MICROSOFT-CDO-ALLDAYEVENT:FALSE
SUMMARY:Sam's Club Multi-Chamber Mixer ''Spring Fling''
DESCRIPTION:Sam's Club Multi-Chamber Mixer "Spring Fling"
X-ALT-DESC;FMTTYPE=text/html:Sam&rsquo\;s Club Multi-Chamber Mixer &quot\;Spring Fling&quot\;<br /><br />
LOCATION:5670 Northwest Hwy.\, Crystal Lake
UID:e.138.50
SEQUENCE:3
DTSTAMP:20260425T203446Z
URL:https://business.carygrovechamber.com/events/details/sam-s-club-multi-chamber-mixer-spring-fling-04-10-2007-50
END:VEVENT

END:VCALENDAR
