BEGIN:VCALENDAR
VERSION:2.0
PRODID:-//ChamberMaster//Event Calendar 2.0//EN
METHOD:PUBLISH
X-PUBLISHED-TTL:P3D
REFRESH-INTERVAL:P3D
CALSCALE:GREGORIAN
BEGIN:VEVENT
DTSTART:20071222T170000Z
DTEND:20071222T200000Z
X-MICROSOFT-CDO-ALLDAYEVENT:FALSE
SUMMARY:SANTA PAWS IS COMING TO TOWN
DESCRIPTION:Bring your dog for pictures with Santa Paws! $15 includes 2 digital prints (no polaroids here!) and holiday keeper card. All proceeds to benefit Young At Heart Pet Rescue. No appointment necessary! Just come on over! We will also have a Hanukkah Background at this location. Let your dog play in our play rooms while you wait for your picture to be taken.
X-ALT-DESC;FMTTYPE=text/html:Bring your dog for pictures with Santa Paws! $15 includes 2 digital prints (no polaroids here!) and holiday keeper card. All proceeds to benefit Young At Heart Pet Rescue. No appointment necessary! Just come on over! We will also have a Hanukkah Background at this location. Let your dog play in our play rooms while you wait for your picture to be taken.
LOCATION:Chasin' Our Tails 766 Industrial Drive Cary\, IL 60013
UID:e.138.148
SEQUENCE:3
DTSTAMP:20260425T221612Z
URL:https://business.carygrovechamber.com/events/details/santa-paws-is-coming-to-town-12-22-2007-148
END:VEVENT

END:VCALENDAR
