BEGIN:VCALENDAR
VERSION:2.0
PRODID:-//ChamberMaster//Event Calendar 2.0//EN
METHOD:PUBLISH
X-PUBLISHED-TTL:P3D
REFRESH-INTERVAL:P3D
CALSCALE:GREGORIAN
BEGIN:VEVENT
DTSTART;VALUE=DATE:20091204
DTEND;VALUE=DATE:20091207
TRANSP:TRANSPARENT
X-MICROSOFT-CDO-ALLDAYEVENT:TRUE
SUMMARY:Satori Fire Glass at Craft Show
DESCRIPTION:Stephanie Tantillo of Satori Fire Glass will be displaying her handcrafted fused glass and sterling silver jewelry at the Lamb's Farm Holiday Lights Gift Fair at Arlington Park in Arlington Heights the weekend of December 4 - 6.  For more information\, visit www.holidaylightslambfarm.com.  To reach Satori Fire Glass\, call (815) 276-5487.  Visit www.satorifireglass.com.
X-ALT-DESC;FMTTYPE=text/html:<div><p class="MsoNormal" style="line-height: 14.4pt\; margin: 0in 0in 0pt"><b><span style="font-family: Arial\; color: black\; font-size: 11pt\; mso-font-kerning: 1.0pt">Stephanie Tantillo of Satori Fire Glass </span></b><span style="font-family: Arial\; color: black\; font-size: 11pt\; mso-font-kerning: 1.0pt\; mso-bidi-font-weight: bold">will be displaying her handcrafted fused glass and sterling silver jewelry at the Lamb&rsquo\;s Farm Holiday Lights Gift Fair at </span><st1:place><st1:placename><span style="font-family: Arial\; color: black\; font-size: 11pt\; mso-font-kerning: 1.0pt\; mso-bidi-font-weight: bold">Arlington</span></st1:placename><span style="font-family: Arial\; color: black\; font-size: 11pt\; mso-font-kerning: 1.0pt\; mso-bidi-font-weight: bold"> </span><st1:placetype><span style="font-family: Arial\; color: black\; font-size: 11pt\; mso-font-kerning: 1.0pt\; mso-bidi-font-weight: bold">Park</span></st1:placetype></st1:place><span style="font-family: Arial\; color: black\; font-size: 11pt\; mso-font-kerning: 1.0pt\; mso-bidi-font-weight: bold"> in </span><st1:place><span style="font-family: Arial\; color: black\; font-size: 11pt\; mso-font-kerning: 1.0pt\; mso-bidi-font-weight: bold">Arlington Heights</span></st1:place><span style="font-family: Arial\; color: black\; font-size: 11pt\; mso-font-kerning: 1.0pt\; mso-bidi-font-weight: bold"> the weekend of December 4 - 6.<span style="mso-spacerun: yes">&nbsp\; </span>For more information\, visit <a href="http://www.holidaylightslambfarm.com">www.holidaylightslambfarm.com</a>. &nbsp\;To reach Satori Fire Glass\, call (815) 276-5487.<span style="mso-spacerun: yes">&nbsp\; </span>Visit <a href="http://www.satorifireglass.com/">www.satorifireglass.com</a>.<span style="mso-spacerun: yes">&nbsp\; </span></span><span style="font-family: Arial\; color: black\; font-size: 11pt\; mso-bidi-font-size: 10.0pt\; mso-bidi-font-family: 'Times New Roman'"><o:p></o:p></span></p></div>
LOCATION:Arlington Park in Arlington Heights
UID:e.138.653
SEQUENCE:3
DTSTAMP:20260424T124405Z
URL:https://business.carygrovechamber.com/events/details/satori-fire-glass-at-craft-show-12-04-2009-653
END:VEVENT

END:VCALENDAR
