BEGIN:VCALENDAR
VERSION:2.0
PRODID:-//ChamberMaster//Event Calendar 2.0//EN
METHOD:PUBLISH
X-PUBLISHED-TTL:P3D
REFRESH-INTERVAL:P3D
CALSCALE:GREGORIAN
BEGIN:VEVENT
DTSTART:20090124T150000Z
DTEND:20090124T180000Z
X-MICROSOFT-CDO-ALLDAYEVENT:FALSE
SUMMARY:Saturday Morning Open Dog Play!
DESCRIPTION:Bring your dog and join us for Saturday Morning Open Dog Play. You stay with your dog and watch them play and socialize with other area dogs in our 3000 sq foot facility. All dogs must be up to date on Rabies\, Distemper\, and Bordetella and show proof at the door. We have lots of toys and an outside area for fresh air and potty time. If you doggy has a lot of pent up winter energy then come join us and let them run and play!!! All dogs should be friendly around people and other dogs. This is our 2nd year offering this event so we hope to see you and your furry friend soon!
X-ALT-DESC;FMTTYPE=text/html:<div>Bring your dog and join us for Saturday Morning Open Dog Play. You stay with your dog and watch them play and socialize with other area dogs in our 3000 sq foot facility. All dogs must be up to date on Rabies\, Distemper\, and Bordetella and show proof at the door. We have lots of toys and an outside area for fresh air and potty time. If you doggy has a lot of pent up winter energy then come join us and let them run and play!!! All dogs should be friendly around people and other dogs. This is our 2nd year offering this event so we hope to see you and your furry friend soon!</div>
LOCATION:Chasin' Our Tails 766 Industrial Drive Cary\, Il 60013 847-516-0099
UID:e.138.397
SEQUENCE:3
DTSTAMP:20260425T040026Z
URL:https://business.carygrovechamber.com/events/details/saturday-morning-open-dog-play-01-24-2009-397
END:VEVENT

END:VCALENDAR
