BEGIN:VCALENDAR
VERSION:2.0
PRODID:-//ChamberMaster//Event Calendar 2.0//EN
METHOD:PUBLISH
X-PUBLISHED-TTL:P3D
REFRESH-INTERVAL:P3D
CALSCALE:GREGORIAN
BEGIN:VEVENT
DTSTART:20080525T000000Z
DTEND:20080525T030000Z
X-MICROSOFT-CDO-ALLDAYEVENT:FALSE
SUMMARY:Scholarship Queen Pageant Miss Cary and Miss Fox River Grove
DESCRIPTION:Saturday\, May 24            Scholarship Queen Pageant            Miss Cary and Miss Fox River Grove            Cary Grove High School\, 2208 Three Oaks Rd.\, 7 p.m.            Tickets available at the door\n\nSeveral local high school girls have signed up to compete in the 2008 Miss Cary and Miss Fox River Grove Rising Stars Business Scholarship Pageant.  The event will be held on Saturday\, May 24 at 7 p.m. at Cary-Grove High School.  The event is sponsored by True Value Manufacturing and Wickstrom Ford Lincoln Mercury.  Winners of the Pageant receive business scholarships from the Chamber and various other prizes. Tickets for the Business Scholarship Pageant are now on sale.  The cost is $8 for adults and $5 for seniors and students.   They can be purchased at the Cary Grove Area Chamber of Commerce office at 27 E. Main Street\, or through one of the Queen contestants. Eleven  teens are running for the title of Miss Cary including Tiffany Au sponsored by the Rotary Club of Cary Grove\, Stephanie Lewis sponsored by Kristy's Pet Care\, Lucinda Blanco sponsored by The Goddard School\, Erin Aiello sponsored by Wickstrom Ford\, Kelsey O'Shaughnessy sponsored by SW Travel\, Ashley Meyers sponsored by Raising the Bar\, Inc.\, Maggie Corr sponsored by Swanson Painting\, Inc.\, McKenzie Vaughn sponsored by Modern Wave Salon and Spa\, Molly MacInnes sponsored by Cary Grove Performing Arts Centre\, Jody Pradelski sponsored by Storage IT Solutions\, and Samantha Grala sponsored by Sage Products\, Inc.  Five local teens are running for the title of Miss Fox River Grove including Caitlin Bailey sponsored by The Clubhouse of Cary\, Margaret Anderson sponsored by ISO Salon Suites\, Jamie Sarius sponsored by Merle Norman Cosmetics\, Haley Beyer sponsored by Stone Hill Center and Ashley Massow sponsored by Cody Chiropractic. The process leading up to the Queen Pageant is designed to provide the contestants with valuable communication and speaking skills and knowledge about local business.  Several of the contestants worked the March 1 Community Showcase\, selling raffle tickets for a weekend getaway for two from Cary Travel Express.   They were formally introduced to the business community and area leaders at a Chamber mixer sponsored by the Merlin 200\,000 Mile Shop on Thursday\, March 20.  They get involved in community service\, make meals for the homeless\, and are trained in speaking and presentation skills. The contestants meet many people in the community\, form new friendships and have lots of fun. The evening of the Pageant the contestants will participate in an evening gown and bathing suit competition\, will be interviewed by the pageant judges and give a presentation on their business sponsor.  The interview and presentation are weighted most heavily in the judging process. The May 24 Pageant will be the last official duty of  2007 Miss Cary\, Stephanie Schmidt\, and 2007 Miss Fox River Grove\, Megan Resseguie.
X-ALT-DESC;FMTTYPE=text/html:<p class="MsoNormal" style="margin: 0in 0in 0pt"><font size="3">Saturday\,&nbsp\;May 24</font></p><p class="MsoNormal" style="margin: 0in 0in 0pt"><font size="3"><span style="mso-tab-count: 1">&nbsp\;&nbsp\;&nbsp\;&nbsp\;&nbsp\;&nbsp\;&nbsp\;&nbsp\;&nbsp\;&nbsp\;&nbsp\; </span>Scholarship Queen Pageant<o:p></o:p></font></p><p class="MsoNormal" style="margin: 0in 0in 0pt"><font size="3"><span style="mso-tab-count: 1">&nbsp\;&nbsp\;&nbsp\;&nbsp\;&nbsp\;&nbsp\;&nbsp\;&nbsp\;&nbsp\;&nbsp\;&nbsp\; </span>Miss Cary and Miss Fox River Grove<o:p></o:p></font></p><p class="MsoNormal" style="margin: 0in 0in 0pt"><font size="3"><span style="mso-tab-count: 1">&nbsp\;&nbsp\;&nbsp\;&nbsp\;&nbsp\;&nbsp\;&nbsp\;&nbsp\;&nbsp\;&nbsp\;&nbsp\; </span><st1:place><st1:placename>Cary</st1:placename> <st1:placetype>Grove</st1:placetype> <st1:placetype>High School</st1:placetype></st1:place>\, <st1:street><st1:address>2208 Three Oaks Rd.</st1:address></st1:street>\, <st1:time hour="19" minute="0">7 p.m.</st1:time><o:p></o:p></font></p><p class="MsoNormal" style="margin: 0in 0in 0pt"><font size="3"><span style="mso-tab-count: 1">&nbsp\;&nbsp\;&nbsp\;&nbsp\;&nbsp\;&nbsp\;&nbsp\;&nbsp\;&nbsp\;&nbsp\;&nbsp\; </span>Tickets available at the door<br /><br /></font></p><p class="MsoNormal" style="margin: 0in 0in 0pt"><font face="Times New Roman">Several local high school girls have signed up to compete in the 2008 Miss Cary and Miss Fox River Grove Rising Stars Business Scholarship Pageant.<span style="mso-spacerun: yes">&nbsp\; </span>The event will be held on Saturday\, May 24 at 7 p.m. at <st1:place w:st="on"><st1:placename w:st="on">Cary-Grove</st1:placename> <st1:placetype w:st="on">High School</st1:placetype></st1:place>.<span style="mso-spacerun: yes">&nbsp\; </span>The event is sponsored by <strong style="mso-bidi-font-weight: normal">True Value Manufacturing and Wickstrom Ford <st1:place w:st="on"><st1:city w:st="on">Lincoln</st1:city></st1:place> Mercury.<span style="mso-spacerun: yes">&nbsp\; </span></strong>Winners of the Pageant receive business scholarships from the Chamber and various other prizes.</font></p><p class="MsoNormal" style="margin: 0in 0in 0pt"><o:p><font face="Times New Roman">&nbsp\;</font></o:p></p><p class="MsoNormal" style="margin: 0in 0in 0pt\; mso-pagination: none"><span lang="EN" style="mso-bidi-font-weight: bold\; mso-ansi-language: EN"><font face="Times New Roman">Tickets for the Business Scholarship Pageant are now on sale.<span style="mso-spacerun: yes">&nbsp\; </span>The cost is $8 for adults and $5 for seniors and students.<span style="mso-spacerun: yes">&nbsp\;&nbsp\; </span>They can be purchased at the Cary Grove Area Chamber of Commerce office at <st1:street w:st="on"><st1:address w:st="on">27 E. Main Street</st1:address></st1:street>\, or through one of the Queen contestants.<o:p></o:p></font></span></p><p class="MsoNormal" style="margin: 0in 0in 0pt\; mso-pagination: none"><span lang="EN" style="mso-bidi-font-weight: bold\; mso-ansi-language: EN"><o:p><font face="Times New Roman">&nbsp\;</font></o:p></span></p><p class="MsoNormal" style="margin: 0in 0in 0pt\; mso-pagination: none"><span lang="EN" style="mso-bidi-font-weight: bold\; mso-ansi-language: EN"><font face="Times New Roman">Eleven<span style="mso-spacerun: yes">&nbsp\; </span>teens are running for the title of Miss Cary including Tiffany Au sponsored by the Rotary Club of Cary Grove\, Stephanie Lewis sponsored by Kristy&rsquo\;s Pet Care\, Lucinda Blanco sponsored by The Goddard School\, Erin Aiello sponsored by Wickstrom Ford\, Kelsey O&rsquo\;Shaughnessy sponsored by SW Travel\, Ashley Meyers sponsored by Raising the Bar\, Inc.\, Maggie Corr sponsored by Swanson Painting\, Inc.\, McKenzie Vaughn sponsored by Modern Wave Salon and Spa\, Molly MacInnes sponsored by Cary Grove Performing Arts Centre\, Jody Pradelski sponsored by Storage IT Solutions\, and Samantha Grala sponsored by Sage Products\, Inc.<span style="mso-spacerun: yes">&nbsp\; </span>Five local teens are running for the title of Miss Fox River Grove including Caitlin Bailey sponsored by The Clubhouse of Cary\, Margaret Anderson sponsored by ISO Salon Suites\, Jamie Sarius sponsored by Merle Norman Cosmetics\, Haley Beyer sponsored by <st1:place w:st="on"><st1:placename w:st="on">Stone</st1:placename> <st1:placetype w:st="on">Hill</st1:placetype> <st1:placetype w:st="on">Center</st1:placetype></st1:place> and Ashley Massow sponsored by Cody Chiropractic.<o:p></o:p></font></span></p><p class="MsoNormal" style="margin: 0in 0in 0pt\; mso-pagination: none"><o:p><font face="Times New Roman">&nbsp\;</font></o:p></p><p class="MsoNormal" style="margin: 0in 0in 0pt"><font face="Times New Roman">The process leading up to the Queen Pageant is designed to provide the contestants with valuable communication and speaking skills and knowledge about local business.<span style="mso-spacerun: yes">&nbsp\; </span>Several of the contestants worked the March 1 Community Showcase\, selling raffle tickets for a weekend getaway for two from Cary Travel Express.<span style="mso-spacerun: yes">&nbsp\;&nbsp\; </span>They were formally introduced to the business community and area leaders at a Chamber mixer sponsored by the Merlin 200\,000 Mile Shop on Thursday\, March 20.<span style="mso-spacerun: yes">&nbsp\; </span>They get involved in community service\, make meals for the homeless\, and are trained in speaking and presentation skills. The contestants meet many people in the community\, form new friendships and have lots of fun.</font></p><p class="MsoNormal" style="margin: 0in 0in 0pt"><o:p><font face="Times New Roman">&nbsp\;</font></o:p></p><p class="MsoNormal" style="margin: 0in 0in 0pt"><font face="Times New Roman">The evening of the Pageant the contestants will participate in an evening gown and bathing suit competition\, will be interviewed by the pageant judges and give a presentation on their business sponsor.<span style="mso-spacerun: yes">&nbsp\; </span>The interview and presentation are weighted most heavily in the judging process.</font></p><p class="MsoNormal" style="margin: 0in 0in 0pt"><o:p><font face="Times New Roman">&nbsp\;</font></o:p></p><p class="MsoNormal" style="margin: 0in 0in 0pt"><font face="Times New Roman">The May 24 Pageant will be the last official duty of<span style="mso-spacerun: yes">&nbsp\; </span>2007 Miss Cary\, Stephanie Schmidt\, and 2007 Miss Fox River Grove\, Megan Resseguie.</font></p><p class="MsoNormal" style="margin: 0in 0in 0pt"><o:p><font face="Times New Roman">&nbsp\;</font></o:p></p><p class="MsoNormal" style="margin: 0in 0in 0pt">&nbsp\;</p>
LOCATION:Cary Grove High School\, Three Oaks Rd.\, Cary
UID:e.138.223
SEQUENCE:3
DTSTAMP:20260425T135232Z
URL:https://business.carygrovechamber.com/events/details/scholarship-queen-pageant-miss-cary-and-miss-fox-river-grove-05-24-2008-223
END:VEVENT

END:VCALENDAR
