BEGIN:VCALENDAR
VERSION:2.0
PRODID:-//ChamberMaster//Event Calendar 2.0//EN
METHOD:PUBLISH
X-PUBLISHED-TTL:P3D
REFRESH-INTERVAL:P3D
CALSCALE:GREGORIAN
BEGIN:VEVENT
DTSTART:20120418T140000Z
DTEND:20120418T153000Z
X-MICROSOFT-CDO-ALLDAYEVENT:FALSE
SUMMARY:Senior Breakfast Club - Advocate Good Shepherd Hospital
DESCRIPTION:Senior Advocate Senior Breakfast Club\n\nSpring Programs 2012\n\n\n\nCoping with Multiple Medical Problems\n\nAs we age we may develop several medical problems at the same time. This can be challenging and make it more difficult to maintain our health. Join Daniel Shiba MD\, Family Medicine with Advocate Medical Group\, to learn how to best manage and cope with multiple medical problems.  Phone 1-800-323-8622\n\n\n\nWednesday\, April 18th\, 2012\n\n9:00am-10:30am
X-ALT-DESC;FMTTYPE=text/html:Senior Advocate Senior Breakfast Club<br />\nSpring Programs 2012<br />\n<br />\nCoping with Multiple Medical Problems<br />\nAs we age we may develop several medical problems at the same time. This can be challenging and make it more difficult to maintain our health. Join Daniel Shiba MD\, Family Medicine with Advocate Medical Group\, to learn how to best manage and cope with multiple medical problems.&nbsp\; Phone 1-800-323-8622<br />\n<br />\nWednesday\, April 18th\, 2012<br />\n9:00am-10:30am<br />\n<br />\n
LOCATION:Advocate Good Shepherd Hospital 450 W. Highway 22\, Barrington\, IL
UID:e.138.3405
SEQUENCE:3
DTSTAMP:20260424T090750Z
URL:https://business.carygrovechamber.com/events/details/senior-breakfast-club-advocate-good-shepherd-hospital-04-18-2012-3405
END:VEVENT

END:VCALENDAR
