BEGIN:VCALENDAR
VERSION:2.0
PRODID:-//ChamberMaster//Event Calendar 2.0//EN
METHOD:PUBLISH
X-PUBLISHED-TTL:P3D
REFRESH-INTERVAL:P3D
CALSCALE:GREGORIAN
BEGIN:VEVENT
DTSTART:20090205T140000Z
DTEND:20090205T150000Z
X-MICROSOFT-CDO-ALLDAYEVENT:FALSE
SUMMARY:Show Your Best Face At Showcase! Seminar
DESCRIPTION:Showcase Preparation Seminar by Lisa Raupp - February 5Now that you have your booth for the Community Showcase\, learn how to effectively market your business at the show. Sign up for "Show Your Best Face at Showcase\," with Lisa Raupp of Mary Kay Cosmetics\, a motivational speaker and seasoned exhibitor\, on Thursday\, February 5 from 8 to 9 a.m. at the Fox River Grove Village Hall\, 305 Illinois Street. Cost is $10. You will learn how to dress up your booth\, work the crowd\, generate leads and much more. Call the Chamber at (847) 639-2800 to sign up or visit www.carygrovechamber.com for a registration form.
X-ALT-DESC;FMTTYPE=text/html:<div style="margin: 0in 0in 0pt"><strong><font size="6"><font size="3">Showcase Preparation Seminar by Lisa Raupp - February 5</font></font></strong></div><div style="margin: 0in 0in 0pt\; line-height: 14.4pt"><span style="font-size: 11pt\; color: black">Now that you have your booth for the Community Showcase\, learn how to effectively market your business at the show.&nbsp\;Sign up for &ldquo\;Show Your Best Face at Showcase\,&rdquo\; with<strong> Lisa Raupp</strong> of <strong>Mary Kay Cosmetics\, </strong>a motivational speaker and seasoned exhibitor\, on Thursday\, February 5 from 8 to 9 a.m. at the Fox River Grove Village Hall\, 305 Illinois Street.&nbsp\;Cost is $10.&nbsp\;You will learn how to dress up your booth\, work the crowd\, generate leads and much more.&nbsp\;Call the Chamber at (847) 639-2800 to sign up or visit <a href="http://www.carygrovechamber.com/"><font color="#800080">www.carygrovechamber.com</font></a> for a registration form.</span></div><div style="margin: 0in 0in 0pt\; line-height: 14.4pt">&nbsp\;</div><div style="margin: 0in 0in 0pt\; line-height: 14.4pt">&nbsp\;</div>
LOCATION:
UID:e.138.396
SEQUENCE:3
DTSTAMP:20260425T004742Z
URL:https://business.carygrovechamber.com/events/details/show-your-best-face-at-showcase-seminar-02-05-2009-396
END:VEVENT

END:VCALENDAR
