BEGIN:VCALENDAR
VERSION:2.0
PRODID:-//ChamberMaster//Event Calendar 2.0//EN
METHOD:PUBLISH
X-PUBLISHED-TTL:P3D
REFRESH-INTERVAL:P3D
CALSCALE:GREGORIAN
BEGIN:VEVENT
DTSTART:20120522T220000Z
DTEND:20120523T000000Z
X-MICROSOFT-CDO-ALLDAYEVENT:FALSE
SUMMARY:SIMPLY SIMPLIFY Class with CLEANING SOLUTIONS
DESCRIPTION:SIMPLY SIMPLIFY your lifestyle at work and home with Kristi Butkus\, Cleaning Consultant & Educational Speaker with CLEANING SOLUTIONS.  Bring a friend or neighbor to learn about simple cleaning techniques\, tips\, and timesavers  that  will help you to clean up negative clutter\, dirt\, chaos and hectic situations to obtain positive and stress free results\, as it pertains to your lifestyle!\n\n\n\nFREE class\; Each attendee will receive a folder of information as reference pertaining to the class topic.\n\nFREE meal\; provided by Rosatis of Cary\n\nFREE will donations will be collected in class\, by check for the Alexander Leigh Center for Autism in Crystal Lake.\n\nFREE mini neck/shoulder massage "In Your Chair" by Laura Kressig with Back to Balance\n\nFREE door prize drawing\n\n\n\nReservations are required: Kristi (847) 644-4397
X-ALT-DESC;FMTTYPE=text/html:SIMPLY SIMPLIFY your lifestyle at work and home with Kristi Butkus\, Cleaning Consultant &amp\; Educational Speaker with CLEANING SOLUTIONS.&nbsp\; Bring a friend or neighbor to learn about simple cleaning techniques\, tips\, and timesavers&nbsp\; that&nbsp\; will help you to clean up negative clutter\, dirt\, chaos and hectic situations to obtain positive and stress free results\, as it pertains to your lifestyle!<br />\n<br />\nFREE class\; Each attendee will receive a folder of information as reference pertaining to the class topic.<br />\nFREE meal\; provided by Rosatis of Cary<br />\nFREE will donations will be collected in class\, by check for the Alexander Leigh Center for Autism in Crystal Lake.<br />\nFREE mini neck/shoulder massage &quot\;In Your Chair&quot\; by Laura Kressig with Back to Balance<br />\nFREE door prize drawing<br />\n<br />\nReservations are required: Kristi (847) 644-4397
LOCATION:Offices of SERVPRO of Southern McHenry County 600 Industrial Drive\, Suite K Cary\, IL 60013
UID:e.138.664
SEQUENCE:3
DTSTAMP:20260424T073951Z
URL:https://business.carygrovechamber.com/events/details/simply-simplify-class-with-cleaning-solutions-05-22-2012-664
END:VEVENT

END:VCALENDAR
