BEGIN:VCALENDAR
VERSION:2.0
PRODID:-//ChamberMaster//Event Calendar 2.0//EN
METHOD:PUBLISH
X-PUBLISHED-TTL:P3D
REFRESH-INTERVAL:P3D
CALSCALE:GREGORIAN
BEGIN:VEVENT
DTSTART;VALUE=DATE:20100130
DTEND;VALUE=DATE:20100201
TRANSP:TRANSPARENT
X-MICROSOFT-CDO-ALLDAYEVENT:TRUE
SUMMARY:Ski Jump Tournament - Norge Ski Club
DESCRIPTION:The Norge Ski Club & Training Center is having its 105th Annual Winter Ski Jump Tournament on Saturday\, January 30 and Sunday\, January 31 from 12 noon to 4 p.m. at 100 Ski Hill Road in Fox River Grove.  Ski jumpers from around the world will compete on their 70 meter hill.  Come watch four international teams compete against US jumpers - Junior Olympic Qualifiers on Saturday and Super Tour and Long-Standing on Sunday. Gates open at 11 a.m.  Admission good for Saturday and Sunday.  $10 in advance or $15 at the gate.  Children 12 and under are free. Great food and drink! Free parking! No dogs allowed\, no carry-ins allowed.  Visit www.norgeskiclub.com for more information.
X-ALT-DESC;FMTTYPE=text/html:<div><p class="MsoNormal" style="line-height: 14.4pt\; margin: 0in 0in 0pt"><span style="font-family: Arial\; color: black\; font-size: 11pt\; mso-bidi-font-size: 10.0pt\; mso-font-kerning: 1.0pt">The <b style="mso-bidi-font-weight: normal">Norge Ski Club &amp\;&nbsp\;Training Center</b>&nbsp\;is having its 105<sup>th</sup> Annual Winter Ski Jump Tournament on Saturday\, January 30 and Sunday\, January&nbsp\;31 from </span><st1:time minute="0" hour="12"><span style="font-family: Arial\; color: black\; font-size: 11pt\; mso-bidi-font-size: 10.0pt\; mso-font-kerning: 1.0pt">12 noon</span></st1:time><span style="font-family: Arial\; color: black\; font-size: 11pt\; mso-bidi-font-size: 10.0pt\; mso-font-kerning: 1.0pt"> to </span><st1:time minute="0" hour="16"><span style="font-family: Arial\; color: black\; font-size: 11pt\; mso-bidi-font-size: 10.0pt\; mso-font-kerning: 1.0pt">4 p.m.</span></st1:time><span style="font-family: Arial\; color: black\; font-size: 11pt\; mso-bidi-font-size: 10.0pt\; mso-font-kerning: 1.0pt"> at </span><st1:street><st1:address><span style="font-family: Arial\; color: black\; font-size: 11pt\; mso-bidi-font-size: 10.0pt\; mso-font-kerning: 1.0pt">100 Ski Hill Road</span></st1:address></st1:street><span style="font-family: Arial\; color: black\; font-size: 11pt\; mso-bidi-font-size: 10.0pt\; mso-font-kerning: 1.0pt"> in Fox River Grove.<span style="mso-spacerun: yes">&nbsp\; </span>Ski jumpers from around the world will compete on their 70 meter hill.<span style="mso-spacerun: yes">&nbsp\; Come watch four international teams compete against US jumpers - Junior Olympic Qualifiers on Saturday and Super Tour and Long-Standing on Sunday.</span></span></p><p class="MsoNormal" style="line-height: 14.4pt\; margin: 0in 0in 0pt">&nbsp\;</p><p class="MsoNormal" style="line-height: 14.4pt\; margin: 0in 0in 0pt"><span style="font-family: Arial\; color: black\; font-size: 11pt\; mso-bidi-font-size: 10.0pt\; mso-font-kerning: 1.0pt">Gates open at </span><st1:time minute="0" hour="11"><span style="font-family: Arial\; color: black\; font-size: 11pt\; mso-bidi-font-size: 10.0pt\; mso-font-kerning: 1.0pt">11 a.m.</span></st1:time><span style="font-family: Arial\; color: black\; font-size: 11pt\; mso-bidi-font-size: 10.0pt\; mso-font-kerning: 1.0pt"><span style="mso-spacerun: yes">&nbsp\; </span>Admission good for Saturday and Sunday.<span style="mso-spacerun: yes">&nbsp\; </span>$10 in advance&nbsp\;or $15 at the gate.<span style="mso-spacerun: yes">&nbsp\; </span>Children 12 and under are free. Great food and drink! Free parking!</span></p><p class="MsoNormal" style="line-height: 14.4pt\; margin: 0in 0in 0pt">&nbsp\;</p><p class="MsoNormal" style="line-height: 14.4pt\; margin: 0in 0in 0pt"><span style="font-family: Arial\; color: black\; font-size: 11pt\; mso-bidi-font-size: 10.0pt\; mso-font-kerning: 1.0pt">No dogs allowed\, no carry-ins allowed. </span></p><p class="MsoNormal" style="line-height: 14.4pt\; margin: 0in 0in 0pt">&nbsp\;</p><p class="MsoNormal" style="line-height: 14.4pt\; margin: 0in 0in 0pt"><span style="font-family: Arial\; color: black\; font-size: 11pt\; mso-bidi-font-size: 10.0pt\; mso-font-kerning: 1.0pt">Visit <a href="http://www.norgeskiclub.com/"><span style="color: black">www.norgeskiclub.com</span></a> for more information.<o:p></o:p></span></p></div>
LOCATION:Norge Ski Club & Training Center 100 Ski Hill Road in Fox River Grove(3/4 miles North of Routes 14 and 22)
UID:e.138.698
SEQUENCE:3
DTSTAMP:20260424T113528Z
URL:https://business.carygrovechamber.com/events/details/ski-jump-tournament-norge-ski-club-01-30-2010-698
END:VEVENT

END:VCALENDAR
