BEGIN:VCALENDAR
VERSION:2.0
PRODID:-//ChamberMaster//Event Calendar 2.0//EN
METHOD:PUBLISH
X-PUBLISHED-TTL:P3D
REFRESH-INTERVAL:P3D
CALSCALE:GREGORIAN
BEGIN:VEVENT
DTSTART:20100720T233000Z
DTEND:20100721T010000Z
X-MICROSOFT-CDO-ALLDAYEVENT:FALSE
SUMMARY:Skin Cancer: A Concern for All Ages
DESCRIPTION:Tuesday\, July 20\, 2010\n\n6:30-8 p.m.\n\nClass Code:  3C72\n\nSkin Cancer is the most common form of cancer in the United States.  More than one million Americans are diagnosed with skin cancer every year.  Learn about the epidemic of skin cancer\, warning signs and preventions by using sun smart techniques such as wearing protective clothing\, sun screen and seeking shade.  Join Amy Derick M.D. with Derick Dermatology for this informative discussion.  A light meal will be served!
X-ALT-DESC;FMTTYPE=text/html:Tuesday\, July 20\, 2010\n<br>6:30-8 p.m.\n<br>Class Code:  3C72\n<br>Skin Cancer is the most common form of cancer in the United States.  More than one million Americans are diagnosed with skin cancer every year.  Learn about the epidemic of skin cancer\, warning signs and preventions by using sun smart techniques such as wearing protective clothing\, sun screen and seeking shade.  Join Amy Derick M.D. with Derick Dermatology for this informative discussion.  A light meal will be served!
LOCATION:Advocate Good Shepherd Hospital Prairie Room 450 W. Highway 22 Barrington\, Il 60010
UID:e.138.822
SEQUENCE:3
DTSTAMP:20260424T020404Z
URL:https://business.carygrovechamber.com/events/details/skin-cancer-a-concern-for-all-ages-07-20-2010-822
END:VEVENT

END:VCALENDAR
