BEGIN:VCALENDAR
VERSION:2.0
PRODID:-//ChamberMaster//Event Calendar 2.0//EN
METHOD:PUBLISH
X-PUBLISHED-TTL:P3D
REFRESH-INTERVAL:P3D
CALSCALE:GREGORIAN
BEGIN:VEVENT
DTSTART:20090714T233000Z
DTEND:20090715T010000Z
X-MICROSOFT-CDO-ALLDAYEVENT:FALSE
SUMMARY:Skin Cancer: Smart Talk
DESCRIPTION:Visiting your family doctor is your first defense against skin cancer.  Skin Cancer is the most common form of cancer in the United States.  More than one million Americans are diagnosed with skin cancer every year.  Learn about the epidemic of skin cancer\, warning signs and preventions by using sun smart techniques\, such as wearing protective clothing\, sun screen and seeking shade.  Join Timothy Froderman M.D.\, with Advocate Medical Group during this informative discussion.
X-ALT-DESC;FMTTYPE=text/html:Visiting your family doctor is your first defense against skin cancer.  Skin Cancer is the most common form of cancer in the United States.  More than one million Americans are diagnosed with skin cancer every year.  Learn about the epidemic of skin cancer\, warning signs and preventions by using sun smart techniques\, such as wearing protective clothing\, sun screen and seeking shade.  Join Timothy Froderman M.D.\, with Advocate Medical Group during this informative discussion.
LOCATION:Advocate Good Shepherd Hospital Prairie Room
UID:e.138.483
SEQUENCE:3
DTSTAMP:20260424T180219Z
URL:https://business.carygrovechamber.com/events/details/skin-cancer-smart-talk-07-14-2009-483
END:VEVENT

END:VCALENDAR
