BEGIN:VCALENDAR
VERSION:2.0
PRODID:-//ChamberMaster//Event Calendar 2.0//EN
METHOD:PUBLISH
X-PUBLISHED-TTL:P3D
REFRESH-INTERVAL:P3D
CALSCALE:GREGORIAN
BEGIN:VEVENT
DTSTART:20090129T173000Z
DTEND:20090129T190000Z
X-MICROSOFT-CDO-ALLDAYEVENT:FALSE
SUMMARY:Small Business Retirement Plans
DESCRIPTION:Small Business Retirement Plans Seminar   January 29Come to an educational seminar on "Small Business Retirement Plans" on January 29 from 11:30 a.m. to 1 p.m. at the Fox River Grove Village Hall\, 305 Illinois St. in FRG. Financial Advisor\, Rich Sansone of Edward Jones\, along with Greg Schneider\, Retirement Plan Manager at Lord Abbett and Mike McMorris\, Pension Consultant of Benetech will speak. Get an overview of retirement plans for companies with less than 100 employees\, learn about allowable pre-tax contributions\, unique plan designs and more. Cost is $10 and includes box lunch. For a registration form\, visit www.carygrovechamber.com or call the Chamber at (847) 639-2800.
X-ALT-DESC;FMTTYPE=text/html:<div style="margin: 0in 0in 0pt"><strong><font size="6"><font size="3">Small Business Retirement Plans Seminar &ndash\; January 29</font></font></strong></div><div style="margin: 0in 0in 0pt\; line-height: 14.4pt"><span style="font-size: 11pt\; color: black">Come to an educational seminar on &ldquo\;Small Business Retirement Plans&rdquo\; on January 29 from 11:30 a.m. to 1 p.m. at the Fox River Grove Village Hall\, 305 Illinois St. in FRG.&nbsp\;Financial Advisor\, <strong>Rich Sansone of Edward Jones</strong>\, along with Greg Schneider\, Retirement Plan Manager at Lord Abbett and Mike McMorris\, Pension Consultant of Benetech will speak.&nbsp\;Get an overview of retirement plans for companies with less than 100 employees\, learn about allowable pre-tax contributions\, unique plan designs and more.&nbsp\;Cost is $10 and includes box lunch. </span><span style="font-size: 11pt\; color: black">For a registration form\, visit <a target="_blank" href="http://www.carygrovechamber.com/"><span style="color: black">www.carygrovechamber.com</span></a> or call the Chamber at (847) 639-2800. </span></div><div style="margin: 0in 0in 0pt\; line-height: 14.4pt">&nbsp\;</div>
LOCATION:Fox River Grove Village Hall305 Illinois St.
UID:e.138.395
SEQUENCE:3
DTSTAMP:20260425T022643Z
URL:https://business.carygrovechamber.com/events/details/small-business-retirement-plans-01-29-2009-395
END:VEVENT

END:VCALENDAR
