BEGIN:VCALENDAR
VERSION:2.0
PRODID:-//ChamberMaster//Event Calendar 2.0//EN
METHOD:PUBLISH
X-PUBLISHED-TTL:P3D
REFRESH-INTERVAL:P3D
CALSCALE:GREGORIAN
BEGIN:VEVENT
DTSTART;VALUE=DATE:20090924
DTEND;VALUE=DATE:20090925
TRANSP:TRANSPARENT
X-MICROSOFT-CDO-ALLDAYEVENT:TRUE
SUMMARY:Social Networking Class - Marketing Your Business Online
DESCRIPTION:Social Networking - Marketing Your Business OnlineSpeaker: Triona Guidry\, Guidry Consulting\, Inc.Thursday\, September 24\, 11:30 a.m. to 1:00 p.m.FRG Village Hall\, 305 Illinois St.\, FRG$10 members\, $20 non-membersBox Lunch Included Learn how to get LinkedIn\, how to make contacts through Facebook and other online resources\, and how to market your business on Twitter.  Reservations are required\, call the Chamber at (847) 639-2800 to reserve your spot.
X-ALT-DESC;FMTTYPE=text/html:<div><font color="#0000ff" size="2"><strong>Social Networking - Marketing Your Business Online</strong></font></div><div><strong>Speaker: Triona Guidry\, Guidry Consulting\, Inc.</strong></div><div><strong>Thursday\, September 24\, 11:30 a.m. to 1:00 p.m.</strong></div><div>FRG Village Hall\, 305 Illinois St.\, FRG</div><div>$10 members\, $20 non-members</div><div>Box Lunch Included</div><div>&nbsp\;</div><div><p class="MsoNormal" style="line-height: 14.4pt\; margin: 0in 0in 0pt"><span style="font-family: Arial\; color: black\; font-size: 11pt\; mso-bidi-font-size: 12.0pt">Learn how to get LinkedIn\, how to make contacts through Facebook and other online resources\, and how to market your business on Twitter.<span style="mso-spacerun: yes">&nbsp\;&nbsp\;</span>Reservations are required\,&nbsp\;call the Chamber at (847) 639-2800 to reserve your spot.<o:p></o:p></span></p></div>
LOCATION:Fox River Grove Village Hall\, 305 Illinois Street\, Fox River Grove
UID:e.138.324
SEQUENCE:3
DTSTAMP:20260424T151329Z
URL:https://business.carygrovechamber.com/events/details/social-networking-class-marketing-your-business-online-09-24-2009-324
END:VEVENT

END:VCALENDAR
