BEGIN:VCALENDAR
VERSION:2.0
PRODID:-//ChamberMaster//Event Calendar 2.0//EN
METHOD:PUBLISH
X-PUBLISHED-TTL:P3D
REFRESH-INTERVAL:P3D
CALSCALE:GREGORIAN
BEGIN:VEVENT
DTSTART;VALUE=DATE:20091110
DTEND;VALUE=DATE:20091111
TRANSP:TRANSPARENT
X-MICROSOFT-CDO-ALLDAYEVENT:TRUE
SUMMARY:Solving Computer Problems Class
DESCRIPTION:Solving Computer Problems!Speaker: Mike Scherenberg\, MS Tech Solutions - (Fixit99)Tuesday\, November 10 from 11:30 a.m. to 1:00 p.m.FRG Village Hall\, 305 Illinois St.\, FRG$10 members\, $20 non-membersBox Lunch Included Learn how to keep your computer running smoothly\, how to troubleshoot and fix common computer problems and how to fix computer issues online.  Reservations are required\, call the Chamber at (847) 639-2800 to reserve your spot.
X-ALT-DESC;FMTTYPE=text/html:<div><div><div><font color="#0000ff" size="2"><strong>Solving Computer Problems!</strong></font></div><div><strong>Speaker: Mike Scherenberg\, MS Tech Solutions - (Fixit99)</strong></div><div><strong>Tuesday\, November 10 from 11:30 a.m. to 1:00 p.m.</strong></div><div>FRG Village Hall\, 305 Illinois St.\, FRG</div><div>$10 members\, $20 non-members</div><div>Box Lunch Included</div><div>&nbsp\;</div><div><p class="MsoNormal" style="line-height: 14.4pt\; margin: 0in 0in 0pt"><span style="font-family: Arial\; color: black\; font-size: 11pt\; mso-bidi-font-size: 12.0pt">Learn how to keep your computer running smoothly\, how to troubleshoot and fix common computer problems&nbsp\;and how to fix computer issues online.<span style="mso-spacerun: yes">&nbsp\;&nbsp\;</span>Reservations are required\,&nbsp\;call the Chamber at (847) 639-2800 to reserve your spot.<o:p></o:p></span></p></div></div></div>
LOCATION:Fox River Grove Village Hall305 Illinois St.\, FRG
UID:e.138.545
SEQUENCE:3
DTSTAMP:20260424T124203Z
URL:https://business.carygrovechamber.com/events/details/solving-computer-problems-class-11-10-2009-545
END:VEVENT

END:VCALENDAR
