BEGIN:VCALENDAR
VERSION:2.0
PRODID:-//ChamberMaster//Event Calendar 2.0//EN
METHOD:PUBLISH
X-PUBLISHED-TTL:P3D
REFRESH-INTERVAL:P3D
CALSCALE:GREGORIAN
BEGIN:VEVENT
DTSTART:20090503T003000Z
DTEND:20090503T023000Z
X-MICROSOFT-CDO-ALLDAYEVENT:FALSE
SUMMARY:Sones de Mexico
DESCRIPTION:Chicago's premier Mexican folk music group\, Sones de Mexico specializes in son\, a rich and lively Mexican music tradition.  Over 25 folk string\, percussion and wind instruments are featured along with four-part vocal arrangements and acrobatic dance demonstrations.  There will be an informational workshop at 6:45 to learn more about the music with the artist.
X-ALT-DESC;FMTTYPE=text/html:Chicago's premier Mexican folk music group\, Sones de Mexico specializes in son\, a rich and lively Mexican music tradition.  Over 25 folk string\, percussion and wind instruments are featured along with four-part vocal arrangements and acrobatic dance demonstrations.  There will be an informational workshop at 6:45 to learn more about the music with the artist.
LOCATION:Raue Center For The Arts 26 North Williams Street Crystal Lake\, IL 60014
UID:e.138.444
SEQUENCE:3
DTSTAMP:20260424T214648Z
URL:https://business.carygrovechamber.com/events/details/sones-de-mexico-05-02-2009-444
END:VEVENT

END:VCALENDAR
