BEGIN:VCALENDAR
VERSION:2.0
PRODID:-//ChamberMaster//Event Calendar 2.0//EN
METHOD:PUBLISH
X-PUBLISHED-TTL:P3D
REFRESH-INTERVAL:P3D
CALSCALE:GREGORIAN
BEGIN:VEVENT
DTSTART:20080613T170000Z
DTEND:20080613T220000Z
X-MICROSOFT-CDO-ALLDAYEVENT:FALSE
SUMMARY:Splash into Summer Community Pool Open House
DESCRIPTION:Bring your friends and family and enjoy an afternoon of fun\, games\, prizes\, safety demonstrations\, contests and more. Admission is free during the hours of 12:00 - 5:00 pm.
X-ALT-DESC;FMTTYPE=text/html:Bring your friends and family and enjoy an afternoon of fun\, games\, prizes\, safety demonstrations\, contests and more. Admission is free during the hours of 12:00 - 5:00 pm.
LOCATION:Community Pool\, 255 Briargate Road\, Cary
UID:e.138.239
SEQUENCE:3
DTSTAMP:20260425T135113Z
URL:https://business.carygrovechamber.com/events/details/splash-into-summer-community-pool-open-house-06-13-2008-239
END:VEVENT

END:VCALENDAR
