BEGIN:VCALENDAR
VERSION:2.0
PRODID:-//ChamberMaster//Event Calendar 2.0//EN
METHOD:PUBLISH
X-PUBLISHED-TTL:P3D
REFRESH-INTERVAL:P3D
CALSCALE:GREGORIAN
BEGIN:VEVENT
DTSTART:20080419T140000Z
DTEND:20080419T210000Z
X-MICROSOFT-CDO-ALLDAYEVENT:FALSE
SUMMARY:Spring Celebration Event
DESCRIPTION:Spring Celebration Event Don't miss the bargains on Saturday\, April 19 at the FRG Spring Celebration event at Stone Hill Center and Foxmoor Crossings\, located at Routes 14 and 22 in Fox River Grove.  The event has FRG area businesses offering special deals\, outdoor activities\, free giveaways and more. Spring Celebration will feature a host of activities for local families.  In addition to many stores offering special sale merchandise\, there will be outdoor activities including Dr. Woods Guitar Emporium band\, Alex and the Allstars\, FRG Fire Department fire truck tours\,  Public Works equipment tours\, Mad Science demonstrations for kids\, the McHenry County Historical Society Bus\, children's face painting\, Weber cooking demonstrations and taste testings\, free food and refreshments and more.  During the event the FRG Lioness will conduct a huge upscale garage sale\, for bargains galore. The FRG Spring Celebration event is sponsored by Wagner Commercial\, Fox River Grove Limited Partnership\, the Village of Fox River Grove\, the Cary Grove Area Chamber of Commerce and Leader ACE Hardware & ACE Rental Place. Fox River Grove businesses\, community groups\, Village departments and others will be participating in the Spring Celebration on April 19. For more information\, contact Suzanne Corr at the Chamber at (847) 639-2800.
X-ALT-DESC;FMTTYPE=text/html:<h2>Spring Celebration Event</h2><div>&nbsp\;</div><div><p class="MsoNormal" style="margin: 0in 0in 0pt"><font size="3">Don&rsquo\;t miss the bargains on Saturday\, April 19 at the FRG Spring Celebration event at Stone Hill Center and Foxmoor Crossings\, located at Routes 14 and 22 in Fox River Grove.<span style="mso-spacerun: yes">&nbsp\; </span>The event has FRG area businesses offering special deals\, outdoor activities\, free giveaways and more.</font></p><p class="MsoNormal" style="margin: 0in 0in 0pt"><o:p><font size="3">&nbsp\;</font></o:p></p><p class="MsoNormal" style="margin: 0in 0in 0pt"><font size="3">Spring Celebration will feature a host of activities for local families.<span style="mso-spacerun: yes">&nbsp\; </span>In addition to many stores offering special sale merchandise\, there will be outdoor activities including Dr. Woods Guitar Emporium band\, Alex and the Allstars\, FRG Fire Department fire truck tours\,<span style="mso-spacerun: yes">&nbsp\; </span>Public Works equipment tours\, Mad Science demonstrations for kids\, the McHenry County Historical Society Bus\, children&rsquo\;s face painting\, Weber cooking demonstrations and taste testings\, free food and refreshments and more. <span style="mso-spacerun: yes">&nbsp\;</span>During the event the FRG Lioness will conduct a huge upscale garage sale\, for bargains galore.</font></p><p class="MsoNormal" style="margin: 0in 0in 0pt"><o:p><font size="3">&nbsp\;</font></o:p></p><p class="MsoNormal" style="margin: 0in 0in 0pt"><font size="3">The FRG Spring Celebration event is sponsored by <strong style="mso-bidi-font-weight: normal">Wagner Commercial\, Fox River Grove Limited Partnership\, the Village of Fox River Grove\, the Cary Grove Area Chamber of Commerce and Leader ACE Hardware &amp\; ACE Rental Place.<o:p></o:p></strong></font></p><p class="MsoNormal" style="margin: 0in 0in 0pt"><strong style="mso-bidi-font-weight: normal"><o:p><font size="3">&nbsp\;</font></o:p></strong></p><p class="MsoNormal" style="margin: 0in 0in 0pt"><font size="3">Fox River Grove businesses\, community groups\, Village departments and others will be participating in the Spring Celebration on April 19. For more information\, contact Suzanne Corr at the Chamber at (847) 639-2800.</font></p></div>
LOCATION:Stone Hill Shopping Center and Foxmoor Crossing Shopping Center Routes 14 and 22\, Fox River Grove
UID:e.138.215
SEQUENCE:3
DTSTAMP:20260425T152513Z
URL:https://business.carygrovechamber.com/events/details/spring-celebration-event-04-19-2008-215
END:VEVENT

END:VCALENDAR
