BEGIN:VCALENDAR
VERSION:2.0
PRODID:-//ChamberMaster//Event Calendar 2.0//EN
METHOD:PUBLISH
X-PUBLISHED-TTL:P3D
REFRESH-INTERVAL:P3D
CALSCALE:GREGORIAN
BEGIN:VEVENT
DTSTART:20100321T040000Z
DTEND:20100322T040000Z
X-MICROSOFT-CDO-ALLDAYEVENT:FALSE
SUMMARY:Spring Craft & Merchandise Fair
DESCRIPTION:Beat Those Winter Blues & Get a Jump on Spring!  The Onion Pub & Brewery will have 20+ vendors with crafts and merchandise for sale in our beautiful Great Room.  Participate in a Raffle to benefit Hospice of Northeastern Illinois - Tickets are only $1!  Enjoy lunch in our dining room and try one of our handcrafted beers.
X-ALT-DESC;FMTTYPE=text/html:Beat Those Winter Blues & Get a Jump on Spring!  The Onion Pub & Brewery will have 20+ vendors with crafts and merchandise for sale in our beautiful Great Room.  Participate in a Raffle to benefit Hospice of Northeastern Illinois - Tickets are only $1!  Enjoy lunch in our dining room and try one of our handcrafted beers.
LOCATION:22221 Pepper Road\, Lake Barrington
UID:e.138.750
SEQUENCE:3
DTSTAMP:20260424T110328Z
URL:https://business.carygrovechamber.com/events/details/spring-craft-merchandise-fair-03-20-2010-750
END:VEVENT

END:VCALENDAR
