BEGIN:VCALENDAR
VERSION:2.0
PRODID:-//ChamberMaster//Event Calendar 2.0//EN
METHOD:PUBLISH
X-PUBLISHED-TTL:P3D
REFRESH-INTERVAL:P3D
CALSCALE:GREGORIAN
BEGIN:VEVENT
DTSTART:20070421T150000Z
DTEND:20070421T220000Z
X-MICROSOFT-CDO-ALLDAYEVENT:FALSE
SUMMARY:Spring Sale Days Fox River Grove
DESCRIPTION:Saturday\, April 21\nSpring Sale Days\, Fox River GroveStone Hill Shopping Center and Foxmoor Crossings\, 10 a.m.   5 p.m. \nDon't miss the bargains on Saturday\, April 21 at the Spring Sale Days event at Stone Hill Center and Foxmoor Crossings\, located at Routes 14 and 22 in Fox River Grove.  The event has FRG area businesses offering special deals\, outdoor activities\, free giveaways and more. Spring Sale Days will be from 10 a.m.   5 p.m. and will feature a host of activities for local families.  In addition to many stores offering special sale merchandise\, there will be outdoor activities including Style & Alive DJ\, local performers\, the Dr. Woods Guitar Emporium band\, Alex and the Allstars\, FRG Fire Department fire truck tours\, the Cicada Bus from the Lake County Forest Preserve Museum\, the McHenry County Historical Society Bus\, children's face painting and Weber cooking demonstrations and taste testings\, free food and refreshments and more.    \n\nPatronize our Chamber members:Leader ACE Hardware & ACE Rental PlaceHarris FRGPanera BreadCody Wellness CenterThe UPS StoreFox River Grove Memorial LibraryVillage of Fox River GroveMerle Norman CosmeticsWild Bird CenterThe Thoughtfulness ShopJimmy John's Fox River Grove Post OfficeDominick's Finer FoodsTinman's PubMercy Health Systems\, Dr. Rodrigo BastidasThe event is sponsored by Fox River Grove Limited Partnership\, Leader ACE Hardware & ACE Rental Place\, the Village of Fox River Grove and the Cary Grove Area Chamber of Commerce.
X-ALT-DESC;FMTTYPE=text/html:<p class="MsoNormal" style="MARGIN: 0in 0in 0pt"><font size="3"><strong>Saturday\, April&nbsp\;21<br /></strong></font><font size="3"><strong>Spring <st1:city><st1:place>Sale</st1:place></st1:city> Days\, Fox River Grove<o:p></o:p></strong></font></p><p class="MsoNormal" style="MARGIN: 0in 0in 0pt"><font size="3"><strong><st1:place><st1:placename>Stone</st1:placename> <st1:placetype>Hill</st1:placetype> <st1:placetype>Shopping Center</st1:placetype></st1:place> and Foxmoor Crossings\, </strong><st1:time hour="10" minute="0"><strong>10 a.m. &ndash\; 5 p.m</strong>.</st1:time><o:p></o:p></font></p><p class="MsoNormal" style="MARGIN: 0in 0in 0pt"><o:p><font size="3">&nbsp\;<br /></font></o:p></p><p class="MsoNormal" style="MARGIN: 0in 0in 0pt"><font face="Times New Roman"><font size="3">Don&rsquo\;t miss the bargains on Saturday\, April 21 at the Spring Sale Days event at <st1:place><st1:placename>Stone</st1:placename> <st1:placetype>Hill</st1:placetype> <st1:placetype>Center</st1:placetype></st1:place> and Foxmoor Crossings\, located at Routes 14 and 22 in Fox River Grove.<span style="mso-spacerun: yes">&nbsp\; </span>The event has FRG area businesses offering special deals\, outdoor activities\, free giveaways and more.<o:p></o:p></font></font></p><p class="MsoNormal" style="MARGIN: 0in 0in 0pt"><o:p><font face="Times New Roman" size="3">&nbsp\;</font></o:p></p><p><font face="Times New Roman"><font size="3">Spring Sale Days will be from <st1:time hour="10" minute="0">10 a.m. &ndash\; 5 p.m.</st1:time> and will feature a host of activities for local families.<span style="mso-spacerun: yes">&nbsp\; </span>In addition to many stores offering special sale merchandise\, there will be outdoor activities including Style &amp\; Alive DJ\,&nbsp\;local performers\, the Dr. Woods Guitar Emporium band\, Alex and the Allstars\, FRG Fire Department fire truck tours\, the Cicada Bus from the Lake County Forest Preserve Museum\, the McHenry County Historical Society Bus\, children&rsquo\;s face painting and Weber cooking demonstrations and taste testings\, free food and refreshments and more.<span style="mso-spacerun: yes">&nbsp\;&nbsp\;&nbsp\;&nbsp\;<br /></span><br /><strong><font face="Tahoma">Patronize our Chamber members:</font></strong></font></font></p><ul><li><strong><font face="Tahoma" size="3">Leader ACE Hardware &amp\; ACE Rental Place</font></strong></li><li><strong><font face="Tahoma" size="3">Harris FRG</font></strong></li><li><strong><font face="Tahoma" size="3">Panera Bread</font></strong></li><li><strong><font face="Tahoma" size="3">Cody Wellness Center</font></strong></li><li><strong><font face="Tahoma" size="3">The UPS Store</font></strong></li><li><strong><font face="Tahoma" size="3">Fox River Grove Memorial Library</font></strong></li><li><strong><font face="Tahoma" size="3">Village of Fox River Grove</font></strong></li><li><strong><font face="Tahoma" size="3">Merle Norman Cosmetics</font></strong></li><li><strong><font face="Tahoma" size="3">Wild Bird Center</font></strong></li><li><strong><font face="Tahoma" size="3">The Thoughtfulness Shop</font></strong></li><li><strong><font face="Tahoma" size="3">Jimmy John's </font></strong></li><li><strong><font face="Tahoma" size="3">Fox River Grove Post Office</font></strong></li><li><strong><font face="Tahoma" size="3">Dominick's Finer Foods</font></strong></li><li><strong><font face="Tahoma" size="3">Tinman's Pub</font></strong></li><li><strong><font face="Tahoma" size="3">Mercy Health Systems\, Dr. Rodrigo Bastidas</font></strong></li></ul><p><font face="Times New Roman"><font size="4">The event is sponsored by <strong>Fox River Grove Limited Partnership\, Leader ACE Hardware &amp\; ACE Rental Place\, the Village of Fox River Grove and the <st1:personname>Cary Grove Area Chamber of Commerce</st1:personname>.<o:p></o:p></strong></font></font></p><p class="MsoNormal" style="MARGIN: 0in 0in 0pt"><font size="3">&nbsp\;</font></p>
LOCATION:Foxmoor Crossing and Stone Hill Shopping Centers
UID:e.138.44
SEQUENCE:3
DTSTAMP:20260425T203553Z
URL:https://business.carygrovechamber.com/events/details/spring-sale-days-fox-river-grove-04-21-2007-44
END:VEVENT

END:VCALENDAR
