BEGIN:VCALENDAR
VERSION:2.0
PRODID:-//ChamberMaster//Event Calendar 2.0//EN
METHOD:PUBLISH
X-PUBLISHED-TTL:P3D
REFRESH-INTERVAL:P3D
CALSCALE:GREGORIAN
BEGIN:VEVENT
DTSTART;VALUE=DATE:20100313
DTEND;VALUE=DATE:20100314
TRANSP:TRANSPARENT
X-MICROSOFT-CDO-ALLDAYEVENT:TRUE
SUMMARY:St. Patrick's Day at The Onion Pub
DESCRIPTION:Join us For Food and Drink Specials.  Celtic Sounds Takes the Stage at 8:30!
X-ALT-DESC;FMTTYPE=text/html:Join us For Food and Drink Specials.  Celtic Sounds Takes the Stage at 8:30!
LOCATION:22221 Pepper Road\, Lake Barrington
UID:e.138.749
SEQUENCE:3
DTSTAMP:20260424T110453Z
URL:https://business.carygrovechamber.com/events/details/st-patrick-s-day-at-the-onion-pub-03-13-2010-749
END:VEVENT

END:VCALENDAR
