BEGIN:VCALENDAR
VERSION:2.0
PRODID:-//ChamberMaster//Event Calendar 2.0//EN
METHOD:PUBLISH
X-PUBLISHED-TTL:P3D
REFRESH-INTERVAL:P3D
CALSCALE:GREGORIAN
BEGIN:VEVENT
DTSTART;VALUE=DATE:20090314
DTEND;VALUE=DATE:20090315
TRANSP:TRANSPARENT
X-MICROSOFT-CDO-ALLDAYEVENT:TRUE
SUMMARY:St. Patrick's Day Dinner Dance - Chalet Hills GC
DESCRIPTION:Join us for an evening of dinner and dance to celebrate St. Patrick's Day.  Your evening will include a buffet dinner featuring Chef Carved Corned Beef\, Roasted Cabbage\, Chicken Alfredo\, Parsley Butter Potatoes\, Sauteed Vegetable Medley and Holiday desserts\, open bar till 9:00pm\, cash bar after 9:00pm and music by Two Rings Productions will have you dancing until the little shiny buckles fall off ye shoes.
X-ALT-DESC;FMTTYPE=text/html:Join us for an evening of dinner and dance to celebrate St. Patrick's Day.  Your evening will include a buffet dinner featuring Chef Carved Corned Beef\, Roasted Cabbage\, Chicken Alfredo\, Parsley Butter Potatoes\, Sauteed Vegetable Medley and Holiday desserts\, open bar till 9:00pm\, cash bar after 9:00pm and music by Two Rings Productions will have you dancing until the little shiny buckles fall off ye shoes.
LOCATION:Chalet Hills Golf Club 943 Rawson Bridge Rd\, Cary\, IL
UID:e.138.408
SEQUENCE:3
DTSTAMP:20260425T004619Z
URL:https://business.carygrovechamber.com/events/details/st-patrick-s-day-dinner-dance-chalet-hills-gc-03-14-2009-408
END:VEVENT

END:VCALENDAR
