BEGIN:VCALENDAR
VERSION:2.0
PRODID:-//ChamberMaster//Event Calendar 2.0//EN
METHOD:PUBLISH
X-PUBLISHED-TTL:P3D
REFRESH-INTERVAL:P3D
CALSCALE:GREGORIAN
BEGIN:VEVENT
DTSTART:20100327T003000Z
DTEND:20100327T030000Z
X-MICROSOFT-CDO-ALLDAYEVENT:FALSE
SUMMARY:St. Thomas School Musical at Raue Center
DESCRIPTION:This is a musical revue featuring students grades five through eight.
X-ALT-DESC;FMTTYPE=text/html:This is a musical revue featuring students grades five through eight.
LOCATION:Raue Center For The Arts 26 North Williams Street Crystal Lake\, IL 60014
UID:e.138.773
SEQUENCE:3
DTSTAMP:20260424T110444Z
URL:https://business.carygrovechamber.com/events/details/st-thomas-school-musical-at-raue-center-03-26-2010-773
END:VEVENT

END:VCALENDAR
