BEGIN:VCALENDAR
VERSION:2.0
PRODID:-//ChamberMaster//Event Calendar 2.0//EN
METHOD:PUBLISH
X-PUBLISHED-TTL:P3D
REFRESH-INTERVAL:P3D
CALSCALE:GREGORIAN
BEGIN:VEVENT
DTSTART:20080313T000000Z
DTEND:20080313T010000Z
X-MICROSOFT-CDO-ALLDAYEVENT:FALSE
SUMMARY:Summer Job Fair
DESCRIPTION:What are you doing this summer? The Cary Park District is hiring for summer seasonal positions including camp counselors\, lifeguards\, pool staff\, youth sports instructors\, marketing and promotions\, park maintenance\, and more. Visitors may pick up job announcements and applications\, drop off resumes\, meet Park District staff\, and ask questions. More information can be found at www.carypark.com.
X-ALT-DESC;FMTTYPE=text/html:What are you doing this summer? The Cary Park District is hiring for summer seasonal positions including camp counselors\, lifeguards\, pool staff\, youth sports instructors\, marketing and promotions\, park maintenance\, and more. Visitors may pick up job announcements and applications\, drop off resumes\, meet Park District staff\, and ask questions. More information can be found at www.carypark.com.
LOCATION:Cary Park District Community Center\, 255 Briargate Road\, Cary
UID:e.138.206
SEQUENCE:3
DTSTAMP:20260425T181133Z
URL:https://business.carygrovechamber.com/events/details/summer-job-fair-03-12-2008-206
END:VEVENT

END:VCALENDAR
