BEGIN:VCALENDAR
VERSION:2.0
PRODID:-//ChamberMaster//Event Calendar 2.0//EN
METHOD:PUBLISH
X-PUBLISHED-TTL:P3D
REFRESH-INTERVAL:P3D
CALSCALE:GREGORIAN
BEGIN:VEVENT
DTSTART;VALUE=DATE:20110305
DTEND;VALUE=DATE:20110306
TRANSP:TRANSPARENT
X-MICROSOFT-CDO-ALLDAYEVENT:TRUE
SUMMARY:Super Coupon-2 Class by Guru Coupon Queen Jill Cataldo at Community Showcas
DESCRIPTION:Reserve your spot today with Guru Coupon Queen\, Jill Cataldo.\n\n		\n\n		Jill is back again this year with "Super Coupon 2: Save on Everything!" with a  FREE coupon class at the 29th Annual Community Showcase on Saturday\, March 5 at 11 a.m. at Cary-Grove High School\, 2208 Three Oaks Road. \n\n		\n\n		Seating is Limited! \n\n		\n\n		Call the Chamber to reserve your seat!  The Showcase will be going on at CGHS from 10 a.m. to 4 p.m. Call the Chamber for more information at (847) 639-2800.
X-ALT-DESC;FMTTYPE=text/html:<div>\n	<div style="margin: 0in 0in 0pt">\n		<font size="3">Reserve your spot today with Guru Coupon Queen\, Jill Cataldo.<br />\n		<br />\n		Jill is back again this year with &quot\;Super Coupon 2: Save on Everything!&quot\; with a&nbsp\;&nbsp\;FREE coupon class at the 29<sup>th</sup> Annual Community Showcase on Saturday\, March 5 at 11 a.m. at <span>Cary-Grove High School\, <font size="3">2208 Three Oaks Road.</font>&nbsp\;<br />\n		<br />\n		Seating is Limited!&nbsp\;<br />\n		<br />\n		Call the Chamber to reserve your seat!&nbsp\; The Showcase will be going on at CGHS from </span><font size="3">10 a.m. to 4 p.m. </font><font size="3">Call the Chamber for more information at (847) 639-2800.</font></font></div>\n</div>\n
LOCATION:Cary-Grove High School2208 Three Oaks RoadCary\, IL
UID:e.138.722
SEQUENCE:3
DTSTAMP:20260423T150020Z
URL:https://business.carygrovechamber.com/events/details/super-coupon-2-class-by-guru-coupon-queen-jill-cataldo-at-community-showcas-03-05-2011-722
END:VEVENT

END:VCALENDAR
