BEGIN:VCALENDAR
VERSION:2.0
PRODID:-//ChamberMaster//Event Calendar 2.0//EN
METHOD:PUBLISH
X-PUBLISHED-TTL:P3D
REFRESH-INTERVAL:P3D
CALSCALE:GREGORIAN
BEGIN:VEVENT
DTSTART:20091212T150000Z
DTEND:20091212T190000Z
X-MICROSOFT-CDO-ALLDAYEVENT:FALSE
SUMMARY:Surviving Holiday Stress with Cary Chiropractic
DESCRIPTION:We're throwing a holiday party! Patients will receive FREE spinal adjustments while new patients will receive an exam and xrays along with a personal health program at NO COST! Also receive a FREE chair massage from Laura Jensen\, LMT to help supercharge your energy! Cary Chiropractic is helping to keep the community healthy through flu season!
X-ALT-DESC;FMTTYPE=text/html:We're throwing a holiday party! Patients will receive FREE spinal adjustments while new patients will receive an exam and xrays along with a personal health program at NO COST! Also receive a FREE chair massage from Laura Jensen\, LMT to help supercharge your energy! Cary Chiropractic is helping to keep the community healthy through flu season!
LOCATION:Cary Chiropractic Offices 395 C Cary Algonquin Rd Cary
UID:e.138.654
SEQUENCE:3
DTSTAMP:20260424T125053Z
URL:https://business.carygrovechamber.com/events/details/surviving-holiday-stress-with-cary-chiropractic-12-12-2009-654
END:VEVENT

END:VCALENDAR
