BEGIN:VCALENDAR
VERSION:2.0
PRODID:-//ChamberMaster//Event Calendar 2.0//EN
METHOD:PUBLISH
X-PUBLISHED-TTL:P3D
REFRESH-INTERVAL:P3D
CALSCALE:GREGORIAN
BEGIN:VEVENT
DTSTART:20090804T233000Z
DTEND:20090805T010000Z
X-MICROSOFT-CDO-ALLDAYEVENT:FALSE
SUMMARY:Surviving the Allergy Season
DESCRIPTION:Asthma and allergies strike 1 out of 4 Americans according to the Asthma and Allergy Foundation of America. If you feel you might be at risk you are invited to learn more about your allergies and ways in which you can improve your overall health. Timothy Brown\, M.D. board certified allergist with Associated Allergists & Asthma Spec Ltd will share insight on these ailments and help you manage your condition. A light meal will be served
X-ALT-DESC;FMTTYPE=text/html:Asthma and allergies strike 1 out of 4 Americans according to the Asthma and Allergy Foundation of America. If you feel you might be at risk you are invited to learn more about your allergies and ways in which you can improve your overall health. Timothy Brown\, M.D. board certified allergist with Associated Allergists & Asthma Spec Ltd will share insight on these ailments and help you manage your condition. A light meal will be served
LOCATION:Advocate Good Shepherd Hospital Prairie Room 450 W. Highway 22 Barrington\, IL 60010
UID:e.138.420
SEQUENCE:3
DTSTAMP:20260424T163635Z
URL:https://business.carygrovechamber.com/events/details/surviving-the-allergy-season-08-04-2009-420
END:VEVENT

END:VCALENDAR
