BEGIN:VCALENDAR
VERSION:2.0
PRODID:-//ChamberMaster//Event Calendar 2.0//EN
METHOD:PUBLISH
X-PUBLISHED-TTL:P3D
REFRESH-INTERVAL:P3D
CALSCALE:GREGORIAN
BEGIN:VEVENT
DTSTART;VALUE=DATE:20090828
DTEND;VALUE=DATE:20090830
TRANSP:TRANSPARENT
X-MICROSOFT-CDO-ALLDAYEVENT:TRUE
SUMMARY:Take a Stand for Turning Point
DESCRIPTION:Turning Point is hosting it's largest fundraiser at Sam's Club in Crystal Lake at 5670 Northwest Hwy. on Friday\, August 28 and Saturday\, August 29. Star 105.5 will broadcast this 36-hour event!  Help "Take a Stand" against domestic violence.  Donations are being accepted to Turning Point\, P.O. Box 723\, Woodstock\, IL 60098
X-ALT-DESC;FMTTYPE=text/html:Turning Point is hosting it's largest fundraiser at Sam's Club in Crystal Lake at 5670 Northwest Hwy. on Friday\, August 28 and Saturday\, August 29. Star 105.5 will broadcast this 36-hour event!  Help "Take a Stand" against domestic violence.  Donations are being accepted to Turning Point\, P.O. Box 723\, Woodstock\, IL 60098
LOCATION:Sam's Club in Crystal Lake5670 Northwest Hwy.Crystal Lake\, IL
UID:e.138.534
SEQUENCE:3
DTSTAMP:20260424T180040Z
URL:https://business.carygrovechamber.com/events/details/take-a-stand-for-turning-point-08-28-2009-534
END:VEVENT

END:VCALENDAR
