BEGIN:VCALENDAR
VERSION:2.0
PRODID:-//ChamberMaster//Event Calendar 2.0//EN
METHOD:PUBLISH
X-PUBLISHED-TTL:P3D
REFRESH-INTERVAL:P3D
CALSCALE:GREGORIAN
BEGIN:VEVENT
DTSTART;VALUE=DATE:20090316
DTEND;VALUE=DATE:20090317
TRANSP:TRANSPARENT
X-MICROSOFT-CDO-ALLDAYEVENT:TRUE
SUMMARY:Tapatio Restaurant - Grand Opening
DESCRIPTION:GRAND OPENING
X-ALT-DESC;FMTTYPE=text/html:GRAND OPENING
LOCATION:374 NORTHWEST HWY. CARY. 60013
UID:e.138.414
SEQUENCE:3
DTSTAMP:20260424T231146Z
URL:https://business.carygrovechamber.com/events/details/tapatio-restaurant-grand-opening-03-16-2009-414
END:VEVENT

END:VCALENDAR
