BEGIN:VCALENDAR
VERSION:2.0
PRODID:-//ChamberMaster//Event Calendar 2.0//EN
METHOD:PUBLISH
X-PUBLISHED-TTL:P3D
REFRESH-INTERVAL:P3D
CALSCALE:GREGORIAN
BEGIN:VEVENT
DTSTART:20080729T210000Z
DTEND:20080730T000000Z
X-MICROSOFT-CDO-ALLDAYEVENT:FALSE
SUMMARY:Tastefully Simple and CAbi Open House
DESCRIPTION:Join us for fun and shopping with gourmet foods\, sauces and mixes from Tastefully Simple presented by Christine Counley\, and CAbi (Carol Anderson by invitation) designer Sample Sale presented by Cindy Scheitlin.  There will be plenty of Tastefully Simple items to tempt your taste buds and purchase\, including the opportunity to order some soon to be retired items.  Come ready to try on a few of the hundreds of CAbi designer pieces from retired collections and multiple seasons.  All at 50% or more off retail prices.  Sizes range from 0 - 16 and XS - XL.  Cash and Carry.  You won't want to miss this one!   Check out the web sites in advance at www.cindyscheitlin.cabionline.com or www.tastefullysimple.com.
X-ALT-DESC;FMTTYPE=text/html:<div><span style="font-size: 10pt\; color: black">Join us for&nbsp\;fun and shopping with gourmet foods\, sauces and mixes from Tastefully Simple presented by Christine Counley\, and CAbi <em>(Carol Anderson by invitation)</em> designer Sample Sale presented by Cindy Scheitlin.&nbsp\; There will be plenty of Tastefully Simple items to tempt your taste buds and purchase\, including the opportunity to order some soon to be retired items.&nbsp\; </span></div><div><span style="font-size: 10pt\; color: black">Come ready to try on a few of the hundreds of CAbi designer pieces from retired collections and multiple seasons.&nbsp\; All at 50% or more off retail prices.&nbsp\; Sizes range from 0 - 16 and XS - XL.&nbsp\; Cash and Carry.&nbsp\; You won&rsquo\;t want to miss this one!&nbsp\; </span></div><div>&nbsp\;</div><div><span style="font-size: 10pt\; color: black"><span style="font-size: 10pt\; color: black\; font-family: Arial\; mso-fareast-font-family: Batang\; mso-bidi-font-family: 'Times New Roman'\; mso-font-kerning: 1.0pt\; mso-ansi-language: EN-US\; mso-fareast-language: KO\; mso-bidi-language: AR-SA">Check out the web sites in advance at <a href="http://www.cindyscheitlin.cabionline.com/" target="_blank"><span style="color: black">www.cindyscheitlin.cabionline.com</span></a> or <a href="http://www.tastefullysimple.com/" target="_blank"><span style="color: black">www.tastefullysimple.com</span></a>. </span></span></div>
LOCATION:Home of Christine Counley2420 Three Oaks Road\, Cary.
UID:e.138.289
SEQUENCE:3
DTSTAMP:20260425T121833Z
URL:https://business.carygrovechamber.com/events/details/tastefully-simple-and-cabi-open-house-07-29-2008-289
END:VEVENT

END:VCALENDAR
