BEGIN:VCALENDAR
VERSION:2.0
PRODID:-//ChamberMaster//Event Calendar 2.0//EN
METHOD:PUBLISH
X-PUBLISHED-TTL:P3D
REFRESH-INTERVAL:P3D
CALSCALE:GREGORIAN
BEGIN:VEVENT
DTSTART;VALUE=DATE:20090724
DTEND;VALUE=DATE:20090725
TRANSP:TRANSPARENT
X-MICROSOFT-CDO-ALLDAYEVENT:TRUE
SUMMARY:Tee Off for Autism Golf Outing
DESCRIPTION:You're invited to participate in Tee Off For Autism Golf Outing on Friday\, July 24.  This event will benefit the Alexander Leigh Center for Autism. It is being held at the Golf Club of Illinois in Algonquin followed by dinner and silent/live auction.  Shot gun start at 1 p.m. For more information\, go to their website www.teeoffforautism.com. If you would like to volunteer\, please contact Kelly Weaver at (847)458-6802.
X-ALT-DESC;FMTTYPE=text/html:<div><span style="font-family: &rsquo\;Cambria&rsquo\;\, &rsquo\;serif&rsquo\;\; color: black\; font-size: 12pt\; mso-ascii-theme-font: major-latin\; mso-fareast-font-family: Calibri\; mso-fareast-theme-font: minor-latin\; mso-hansi-theme-font: major-latin\; mso-bidi-font-family: Arial\; mso-ansi-language: EN-US\; mso-fareast-language: EN-US\; mso-bidi-language: AR-SA"><font size="2"><font face="Arial">You&rsquo\;re invited to participate in&nbsp\;<strong>Tee Off For Autism&nbsp\;</strong>Golf Outing on Friday\, July 24.&nbsp\; This event will benefit the <strong>Alexander Leigh Center for Autism. </strong>It is being held at the Golf Club of Illinois in Algonquin followed by dinner and silent/live auction.&nbsp\; Shot gun start at 1 p.m.&nbsp\;For more information\, go to their website </font><a href="http://www.teeoffforautism.com/"><font face="Arial">www.teeoffforautism.com.</font></a><font face="Arial"> If you would like to volunteer\, please contact Kelly Weaver at (847)458-6802.</font></font></span></div><div><span style="font-family: &rsquo\;Cambria&rsquo\;\, &rsquo\;serif&rsquo\;\; color: black\; font-size: 12pt\; mso-ascii-theme-font: major-latin\; mso-fareast-font-family: Calibri\; mso-fareast-theme-font: minor-latin\; mso-hansi-theme-font: major-latin\; mso-bidi-font-family: Arial\; mso-ansi-language: EN-US\; mso-fareast-language: EN-US\; mso-bidi-language: AR-SA"><font size="2"><font face="Arial"><div>&nbsp\;</div></font></font></span></div>
LOCATION:The Golf Club of Illinois For more information you can go to their website www.teeoffforautism.com.
UID:e.138.523
SEQUENCE:3
DTSTAMP:20260424T191835Z
URL:https://business.carygrovechamber.com/events/details/tee-off-for-autism-golf-outing-07-24-2009-523
END:VEVENT

END:VCALENDAR
