BEGIN:VCALENDAR
VERSION:2.0
PRODID:-//ChamberMaster//Event Calendar 2.0//EN
METHOD:PUBLISH
X-PUBLISHED-TTL:P3D
REFRESH-INTERVAL:P3D
CALSCALE:GREGORIAN
BEGIN:VEVENT
DTSTART;VALUE=DATE:20090821
DTEND;VALUE=DATE:20090824
TRANSP:TRANSPARENT
X-MICROSOFT-CDO-ALLDAYEVENT:TRUE
SUMMARY:TENT SALE - Barn Nursery!
DESCRIPTION:Join us Friday August 21st - Sunday\, August 23rd for our Tent Sale! Choose from hundreds of perennials\, trees\, shrubs and evergreens marked 50-75% off!
X-ALT-DESC;FMTTYPE=text/html:<div><p style="text-align: left"><strong>Join us Friday August 21st - Sunday\, August 23rd for our Tent Sale! Choose from hundreds of perennials\, trees\, shrubs and evergreens marked 50-75% off!</strong></p></div>
LOCATION:The BARN NURSERY and LANDSCAPE CENTER 8109 South Route 31 Cary\, IL 60013
UID:e.138.542
SEQUENCE:3
DTSTAMP:20260424T180202Z
URL:https://business.carygrovechamber.com/events/details/tent-sale-barn-nursery-08-21-2009-542
END:VEVENT

END:VCALENDAR
