BEGIN:VCALENDAR
VERSION:2.0
PRODID:-//ChamberMaster//Event Calendar 2.0//EN
METHOD:PUBLISH
X-PUBLISHED-TTL:P3D
REFRESH-INTERVAL:P3D
CALSCALE:GREGORIAN
BEGIN:VEVENT
DTSTART:20091112T173000Z
DTEND:20091112T190000Z
X-MICROSOFT-CDO-ALLDAYEVENT:FALSE
SUMMARY:The Healing Power of Letting Go
DESCRIPTION:Holding on to negative emotions such as bad memories\, grudges\, day-to day worries and aggravations are just some examples that can affect our physical and emotional health.  Join Josette Day\, LCSW and Marlene Casiano M.D. of Barrington Center for Counseling and Psychotherapy to learn how to reduce your stress and risk for disease.
X-ALT-DESC;FMTTYPE=text/html:Holding on to negative emotions such as bad memories\, grudges\, day-to day worries and aggravations are just some examples that can affect our physical and emotional health.  Join Josette Day\, LCSW and Marlene Casiano M.D. of Barrington Center for Counseling and Psychotherapy to learn how to reduce your stress and risk for disease.
LOCATION:Advocate Good Shepherd Outpatient Center 525 Congress Parkway Crystal Lake\, IL 60014
UID:e.138.513
SEQUENCE:3
DTSTAMP:20260424T125847Z
URL:https://business.carygrovechamber.com/events/details/the-healing-power-of-letting-go-11-12-2009-513
END:VEVENT

END:VCALENDAR
