BEGIN:VCALENDAR
VERSION:2.0
PRODID:-//ChamberMaster//Event Calendar 2.0//EN
METHOD:PUBLISH
X-PUBLISHED-TTL:P3D
REFRESH-INTERVAL:P3D
CALSCALE:GREGORIAN
BEGIN:VEVENT
DTSTART:20091206T013000Z
DTEND:20091206T033000Z
X-MICROSOFT-CDO-ALLDAYEVENT:FALSE
SUMMARY:The Lakeside Singers Christmas Concert
DESCRIPTION:This group is composed of 24 Chicago-area professional singers under the direction of well-known conductor\, composer\, arranger\, producer and studio vocalist\, Bob Bowker. Singing everything from contemporary to classic holiday choral songs.\n\nCorporate Co-Sponsors: Advocate Good Shepherd Hospital\, Schaumburg Audi
X-ALT-DESC;FMTTYPE=text/html:This group is composed of 24 Chicago-area professional singers under the direction of well-known conductor\, composer\, arranger\, producer and studio vocalist\, Bob Bowker. Singing everything from contemporary to classic holiday choral songs.\n\nCorporate Co-Sponsors: Advocate Good Shepherd Hospital\, Schaumburg Audi
LOCATION:Raue Center For The Arts 26 North Williams Street Crystal Lake\, IL 60014
UID:e.138.641
SEQUENCE:3
DTSTAMP:20260424T125826Z
URL:https://business.carygrovechamber.com/events/details/the-lakeside-singers-christmas-concert-12-05-2009-641
END:VEVENT

END:VCALENDAR
