BEGIN:VCALENDAR
VERSION:2.0
PRODID:-//ChamberMaster//Event Calendar 2.0//EN
METHOD:PUBLISH
X-PUBLISHED-TTL:P3D
REFRESH-INTERVAL:P3D
CALSCALE:GREGORIAN
BEGIN:VEVENT
DTSTART:20091014T163000Z
DTEND:20091014T180000Z
X-MICROSOFT-CDO-ALLDAYEVENT:FALSE
SUMMARY:The Menopause Journey
DESCRIPTION:Menopause is a time of change\, challenge and personal freedom.  Please join Samreen Akbar\, M.D. with Barrington Health Care for Women\, to learn the best ways to treat your symptoms while living a busy and active life.
X-ALT-DESC;FMTTYPE=text/html:Menopause is a time of change\, challenge and personal freedom.  Please join Samreen Akbar\, M.D. with Barrington Health Care for Women\, to learn the best ways to treat your symptoms while living a busy and active life.
LOCATION:Advocate Good Shepherd Outpatient Center 525 Congress Parkway Crystal Lake\, IL 60014
UID:e.138.512
SEQUENCE:3
DTSTAMP:20260424T140826Z
URL:https://business.carygrovechamber.com/events/details/the-menopause-journey-10-14-2009-512
END:VEVENT

END:VCALENDAR
