BEGIN:VCALENDAR
VERSION:2.0
PRODID:-//ChamberMaster//Event Calendar 2.0//EN
METHOD:PUBLISH
X-PUBLISHED-TTL:P3D
REFRESH-INTERVAL:P3D
CALSCALE:GREGORIAN
BEGIN:VEVENT
DTSTART;VALUE=DATE:20080509
DTEND;VALUE=DATE:20080510
TRANSP:TRANSPARENT
X-MICROSOFT-CDO-ALLDAYEVENT:TRUE
SUMMARY:The Mystery of King Tut
DESCRIPTION:This musical tells the stories of Tutankhamen\, the ?boy king? who ruled Egypt in the 14th century B.C.\, and Howard Carter\, the archeologist who made him famous by discovering his tomb in 1922.
X-ALT-DESC;FMTTYPE=text/html:This musical tells the stories of Tutankhamen\, the ?boy king? who ruled Egypt in the 14th century B.C.\, and Howard Carter\, the archeologist who made him famous by discovering his tomb in 1922.
LOCATION:Raue Center For The Arts 26 N. Williams Street Crystal Lake\, IL 60014
UID:e.138.178
SEQUENCE:3
DTSTAMP:20260425T152635Z
URL:https://business.carygrovechamber.com/events/details/the-mystery-of-king-tut-05-09-2008-178
END:VEVENT

END:VCALENDAR
