BEGIN:VCALENDAR
VERSION:2.0
PRODID:-//ChamberMaster//Event Calendar 2.0//EN
METHOD:PUBLISH
X-PUBLISHED-TTL:P3D
REFRESH-INTERVAL:P3D
CALSCALE:GREGORIAN
BEGIN:VEVENT
DTSTART:20091220T010000Z
DTEND:20091220T030000Z
X-MICROSOFT-CDO-ALLDAYEVENT:FALSE
SUMMARY:The Nutcracker Ballet
DESCRIPTION:Treat yourself and the entire family to a Christmas delight with Tchaikovsky?s unforgettable music\, emotional dancing and lavish costumes. Raue Center is proud to support Crystal Lake?s very own Berkshire Ballet Theatre as they partner with professional dancers from New York City. A holiday classic! \n\nCorporate Co-Sponsors: Advocate Good Shepherd Hospital\, Georgio?s Chicago Pizzeria and Pub\, McHenry County Living\, Northwest Herald\, Countryside Flower Shop
X-ALT-DESC;FMTTYPE=text/html:Treat yourself and the entire family to a Christmas delight with Tchaikovsky?s unforgettable music\, emotional dancing and lavish costumes. Raue Center is proud to support Crystal Lake?s very own Berkshire Ballet Theatre as they partner with professional dancers from New York City. A holiday classic! \n\nCorporate Co-Sponsors: Advocate Good Shepherd Hospital\, Georgio?s Chicago Pizzeria and Pub\, McHenry County Living\, Northwest Herald\, Countryside Flower Shop
LOCATION:Raue Center For The Arts 26 North Williams Street Crystal Lake\, IL 60014
UID:e.138.645
SEQUENCE:3
DTSTAMP:20260424T124406Z
URL:https://business.carygrovechamber.com/events/details/the-nutcracker-ballet-12-19-2009-645
END:VEVENT

END:VCALENDAR
