BEGIN:VCALENDAR
VERSION:2.0
PRODID:-//ChamberMaster//Event Calendar 2.0//EN
METHOD:PUBLISH
X-PUBLISHED-TTL:P3D
REFRESH-INTERVAL:P3D
CALSCALE:GREGORIAN
BEGIN:VEVENT
DTSTART;VALUE=DATE:20080214
DTEND;VALUE=DATE:20080215
TRANSP:TRANSPARENT
X-MICROSOFT-CDO-ALLDAYEVENT:TRUE
SUMMARY:The Taffetas
DESCRIPTION:It?s 1950-something and Kaye\, Peggy\, Cheryl and Donna\, four singing sisters from Muncie\, Indiana are making their national television singing debut. ?Spotlight on Music\,? a fictitious weekly 1950?s television show on the real-life Dumont Television Network\, sets the framework for an evening of some of the greatest hits of the 1950?s\, featuring songs such as Mr. Sandman\, Dedicated to the One I Love\, Johnny Angel\, Where The Boys Are\, Sh-Boom\, L-O-V-E and many others. A tribute to the girl groups of the 1950?s\, The Taffetas pay tribute to the sounds of The McGuire Sisters\, The Fontane Sisters\, and The Cordettes.
X-ALT-DESC;FMTTYPE=text/html:It?s 1950-something and Kaye\, Peggy\, Cheryl and Donna\, four singing sisters from Muncie\, Indiana are making their national television singing debut. ?Spotlight on Music\,? a fictitious weekly 1950?s television show on the real-life Dumont Television Network\, sets the framework for an evening of some of the greatest hits of the 1950?s\, featuring songs such as Mr. Sandman\, Dedicated to the One I Love\, Johnny Angel\, Where The Boys Are\, Sh-Boom\, L-O-V-E and many others. A tribute to the girl groups of the 1950?s\, The Taffetas pay tribute to the sounds of The McGuire Sisters\, The Fontane Sisters\, and The Cordettes.
LOCATION:Raue Center For The Arts 26 N. Williams Street Crystal Lake\, IL 60014
UID:e.138.158
SEQUENCE:3
DTSTAMP:20260425T193630Z
URL:https://business.carygrovechamber.com/events/details/the-taffetas-02-14-2008-158
END:VEVENT

END:VCALENDAR
